BEGIN:VCALENDAR
VERSION:2.0
PRODID:-//Arkansas Transit Association - ECPv6.0.13//NONSGML v1.0//EN
CALSCALE:GREGORIAN
METHOD:PUBLISH
X-WR-CALNAME:Arkansas Transit Association
X-ORIGINAL-URL:https://arkansastransit.com
X-WR-CALDESC:Events for Arkansas Transit Association
REFRESH-INTERVAL;VALUE=DURATION:PT1H
X-Robots-Tag:noindex
X-PUBLISHED-TTL:PT1H
BEGIN:VTIMEZONE
TZID:UTC
BEGIN:STANDARD
TZOFFSETFROM:+0000
TZOFFSETTO:+0000
TZNAME:UTC
DTSTART:20260101T000000
END:STANDARD
END:VTIMEZONE
BEGIN:VEVENT
DTSTART;TZID=UTC:20260203T120000
DTEND;TZID=UTC:20260203T123000
DTSTAMP:20260420T061545
CREATED:20251205T172804Z
LAST-MODIFIED:20251205T172804Z
UID:5168-1770120000-1770121800@arkansastransit.com
SUMMARY:Website Builder Office Hours
DESCRIPTION:Website Builder Office Hours \nSince 2011\, Website Builder has allowed users to create and design websites that are hosted on the National RTAP server free of charge. Recently\, National RTAP released Website Builder 3.0 using customer feedback and the latest technology to make creating\, editing and launching your website as easy as possible. \nCheck out some rural transit websites built with National RTAP’s Website Builder: \n\nAccess Allegany (New York)\nNeed A Ride (New York)\nGo Blue Transit (Texas)\nNebraska Public Transit (Nebraska)\nBluefield Area Transit (West Virginia)\n\nHere are examples of a State RTAP website and transit association website\, both built with Website Builder. \n\nIndiana RTAP\nCTANW (Community Transportation Association of the Northwest)\n\nReady to begin? Click on the Create My Website button. You will be prompted to create or sign in to your National RTAP account. Once logged in\, several website templates will appear. Select your preferred template by clicking “Start Building.” You will be prompted to create an account for your website. This is a different from your National RTAP account. \n\nIntended for: Transit Agencies \nCost: FREE \nRegister Here: Click here
URL:https://arkansastransit.com/event/website-builder-office-hours-91/
CATEGORIES:Online/Webinar
ATTACH;FMTTYPE=image/jpeg:https://arkansastransit.com/wp-content/uploads/2023/05/download-2.jpg
END:VEVENT
BEGIN:VEVENT
DTSTART;TZID=UTC:20260204T140000
DTEND;TZID=UTC:20260204T140000
DTSTAMP:20260420T061545
CREATED:20260116T161236Z
LAST-MODIFIED:20260116T161236Z
UID:5194-1770213600-1770213600@arkansastransit.com
SUMMARY:The Americans with Disabilities Act\, Web Accessibility\, and You: Updates to Title II and What They Mean for Covered Entities
DESCRIPTION:The Americans with Disabilities Act\, Web Accessibility\, and You: Updates to Title II and What They Mean for Covered Entities \nDescription: Recent updates to Title II of the Americans with Disabilities Act have major implications for state and local government entities. The rule\, published in April 2024\, explicitly requires public entities to ensure that websites\, mobile applications\, digital documents\, social media content\, and online software used in their programs\, services\, and activities are accessible. This session will explore the key changes\, clarify compliance requirements\, and provide a practical overview of how the updates affect your organization. We will also examine how the broader framework of Title II can help guide entities in aligning with the new rule. Participants will leave with a clear understanding of what is required\, what is not\, and the timelines for compliance. \n\nIntended for: All \nCost: FREE \nRegister Here: Click here
URL:https://arkansastransit.com/event/the-americans-with-disabilities-act-web-accessibility-and-you-updates-to-title-ii-and-what-they-mean-for-covered-entities/
CATEGORIES:Online/Webinar
ATTACH;FMTTYPE=image/png:https://arkansastransit.com/wp-content/uploads/2026/01/download.png
END:VEVENT
BEGIN:VEVENT
DTSTART;TZID=UTC:20260205T120000
DTEND;TZID=UTC:20260205T123000
DTSTAMP:20260420T061545
CREATED:20251205T172948Z
LAST-MODIFIED:20251205T172948Z
UID:5176-1770292800-1770294600@arkansastransit.com
SUMMARY:General Transit Feed Specification (GTFS) Office Hours
DESCRIPTION:General Transit Feed Specification (GTFS) Office Hours\nGTFS is split into a schedule component that contains schedule\, fare\, and geographic transit information and a real-time component that contains arrival predictions\, vehicle positions and service advisories. Information about routes\, schedules\, and fares are represented in basic text files\, which means it can be created and maintained without the use of complicated or proprietary software. \nIntended for: Transit Agencies \nCost: FREE \nRegister Here: Click here
URL:https://arkansastransit.com/event/general-transit-feed-specification-gtfs-office-hours-121/
LOCATION:Online (Zoom)
CATEGORIES:Online/Webinar
ATTACH;FMTTYPE=image/jpeg:https://arkansastransit.com/wp-content/uploads/2023/05/download-2.jpg
END:VEVENT
BEGIN:VEVENT
DTSTART;TZID=UTC:20260210T090000
DTEND;TZID=UTC:20260210T120000
DTSTAMP:20260420T061545
CREATED:20251205T172626Z
LAST-MODIFIED:20251205T172626Z
UID:5165-1770714000-1770724800@arkansastransit.com
SUMMARY:Creating an Inclusive Workplace (Disabilities)
DESCRIPTION:Creating an Inclusive Workplace (Disabilities) \nTransit agencies across the country are working to build stronger\, more inclusive workplaces that welcome and support employees of all abilities. This webinar provides practical strategies to help transit leaders\, HR staff\, and frontline supervisors create environments where people with disabilities can thrive. \n\nIntended for: All \nCost: FREE \nRegister Here: Click here
URL:https://arkansastransit.com/event/creating-an-inclusive-workplace-disabilities/
CATEGORIES:Online/Webinar
ATTACH;FMTTYPE=image/jpeg:https://arkansastransit.com/wp-content/uploads/2024/07/download.jpg
END:VEVENT
BEGIN:VEVENT
DTSTART;TZID=UTC:20260210T120000
DTEND;TZID=UTC:20260210T123000
DTSTAMP:20260420T061545
CREATED:20251205T172838Z
LAST-MODIFIED:20251205T172838Z
UID:5170-1770724800-1770726600@arkansastransit.com
SUMMARY:Website Builder Office Hours
DESCRIPTION:Website Builder Office Hours \nSince 2011\, Website Builder has allowed users to create and design websites that are hosted on the National RTAP server free of charge. Recently\, National RTAP released Website Builder 3.0 using customer feedback and the latest technology to make creating\, editing and launching your website as easy as possible. \nCheck out some rural transit websites built with National RTAP’s Website Builder: \n\nAccess Allegany (New York)\nNeed A Ride (New York)\nGo Blue Transit (Texas)\nNebraska Public Transit (Nebraska)\nBluefield Area Transit (West Virginia)\n\nHere are examples of a State RTAP website and transit association website\, both built with Website Builder. \n\nIndiana RTAP\nCTANW (Community Transportation Association of the Northwest)\n\nReady to begin? Click on the Create My Website button. You will be prompted to create or sign in to your National RTAP account. Once logged in\, several website templates will appear. Select your preferred template by clicking “Start Building.” You will be prompted to create an account for your website. This is a different from your National RTAP account. \n\nIntended for: Transit Agencies \nCost: FREE \nRegister Here: Click here
URL:https://arkansastransit.com/event/website-builder-office-hours-92/
CATEGORIES:Online/Webinar
ATTACH;FMTTYPE=image/jpeg:https://arkansastransit.com/wp-content/uploads/2023/05/download-2.jpg
END:VEVENT
BEGIN:VEVENT
DTSTART;TZID=UTC:20260210T150000
DTEND;TZID=UTC:20260210T160000
DTSTAMP:20260420T061545
CREATED:20260116T161434Z
LAST-MODIFIED:20260116T161434Z
UID:5199-1770735600-1770739200@arkansastransit.com
SUMMARY:Preparing for Surface Transportation Reauthorization: What’s Next for EVs & Charging Infrastructure
DESCRIPTION:Preparing for Surface Transportation Reauthorization: What’s Next for EVs & Charging Infrastructure \nJoin us for a forward-looking conversation on how stakeholders can begin preparing for the next surface transportation reauthorization. This session will explore anticipated congressional priorities\, potential updates to EV-related programs\, opportunities to enhance infrastructure deployment\, and the implications of these changes for states\, utilities\, fleets\, and charging providers. \n\nIntended for: All \nCost: FREE \nRegister Here: Click here
URL:https://arkansastransit.com/event/preparing-for-surface-transportation-reauthorization-whats-next-for-evs-charging-infrastructure/
CATEGORIES:Online/Webinar
ATTACH;FMTTYPE=image/png:https://arkansastransit.com/wp-content/uploads/2024/03/download-3.png
END:VEVENT
BEGIN:VEVENT
DTSTART;TZID=UTC:20260211T120000
DTEND;TZID=UTC:20260211T133000
DTSTAMP:20260420T061545
CREATED:20260116T161624Z
LAST-MODIFIED:20260116T161624Z
UID:5201-1770811200-1770816600@arkansastransit.com
SUMMARY:AI Uses for Transportation Systems Management and Operations
DESCRIPTION:AI Uses for Transportation Systems Management and Operations \nThis webinar will look at how agencies can incorporate Artificial Intelligence (AI)-driven systems into transportation systems management and operations (TSMO). \n\nIntended for: All \nCost: FREE \nRegister Here: Click here
URL:https://arkansastransit.com/event/ai-uses-for-transportation-systems-management-and-operations/
CATEGORIES:Online/Webinar
ATTACH;FMTTYPE=image/png:https://arkansastransit.com/wp-content/uploads/2025/10/download.png
END:VEVENT
BEGIN:VEVENT
DTSTART;TZID=UTC:20260212T120000
DTEND;TZID=UTC:20260212T123000
DTSTAMP:20260420T061545
CREATED:20251205T173019Z
LAST-MODIFIED:20251205T173019Z
UID:5178-1770897600-1770899400@arkansastransit.com
SUMMARY:General Transit Feed Specification (GTFS) Office Hours
DESCRIPTION:General Transit Feed Specification (GTFS) Office Hours\nGTFS is split into a schedule component that contains schedule\, fare\, and geographic transit information and a real-time component that contains arrival predictions\, vehicle positions and service advisories. Information about routes\, schedules\, and fares are represented in basic text files\, which means it can be created and maintained without the use of complicated or proprietary software. \nIntended for: Transit Agencies \nCost: FREE \nRegister Here: Click here
URL:https://arkansastransit.com/event/general-transit-feed-specification-gtfs-office-hours-122/
LOCATION:Online (Zoom)
CATEGORIES:Online/Webinar
ATTACH;FMTTYPE=image/jpeg:https://arkansastransit.com/wp-content/uploads/2023/05/download-2.jpg
END:VEVENT
BEGIN:VEVENT
DTSTART;TZID=UTC:20260212T130000
DTEND;TZID=UTC:20260212T140000
DTSTAMP:20260420T061545
CREATED:20260116T161814Z
LAST-MODIFIED:20260116T161814Z
UID:5203-1770901200-1770904800@arkansastransit.com
SUMMARY:Introducing the National RTAP Volunteer Driver Program Toolkit
DESCRIPTION:Introducing the National RTAP Volunteer Driver Program Toolkit \nDiscover the long-awaited update to the Washington State Volunteer Driver Guidebook. Based on National RTAP’s Volunteer Driver Program Toolkit\, this nationally recognized resource supports the creation and expansion of volunteer driver programs. Sponsored by WSDOT\, National RTAP\, and the Colorado Association of Transit Agencies\, the updated\, user-friendly guide provides practical guidance\, best practices\, and lessons learned from successful programs across the country. Panelists will share insights\, case studies\, and tools to help agencies enhance mobility through volunteer transportation. \n\nIntended for: All \nCost: FREE \nRegister Here: Click here
URL:https://arkansastransit.com/event/introducing-the-national-rtap-volunteer-driver-program-toolkit/
CATEGORIES:Online/Webinar
ATTACH;FMTTYPE=image/jpeg:https://arkansastransit.com/wp-content/uploads/2023/05/download-2.jpg
END:VEVENT
BEGIN:VEVENT
DTSTART;TZID=UTC:20260217T120000
DTEND;TZID=UTC:20260217T123000
DTSTAMP:20260420T061545
CREATED:20251205T172900Z
LAST-MODIFIED:20251205T172900Z
UID:5172-1771329600-1771331400@arkansastransit.com
SUMMARY:Website Builder Office Hours
DESCRIPTION:Website Builder Office Hours \nSince 2011\, Website Builder has allowed users to create and design websites that are hosted on the National RTAP server free of charge. Recently\, National RTAP released Website Builder 3.0 using customer feedback and the latest technology to make creating\, editing and launching your website as easy as possible. \nCheck out some rural transit websites built with National RTAP’s Website Builder: \n\nAccess Allegany (New York)\nNeed A Ride (New York)\nGo Blue Transit (Texas)\nNebraska Public Transit (Nebraska)\nBluefield Area Transit (West Virginia)\n\nHere are examples of a State RTAP website and transit association website\, both built with Website Builder. \n\nIndiana RTAP\nCTANW (Community Transportation Association of the Northwest)\n\nReady to begin? Click on the Create My Website button. You will be prompted to create or sign in to your National RTAP account. Once logged in\, several website templates will appear. Select your preferred template by clicking “Start Building.” You will be prompted to create an account for your website. This is a different from your National RTAP account. \n\nIntended for: Transit Agencies \nCost: FREE \nRegister Here: Click here
URL:https://arkansastransit.com/event/website-builder-office-hours-93/
CATEGORIES:Online/Webinar
ATTACH;FMTTYPE=image/jpeg:https://arkansastransit.com/wp-content/uploads/2023/05/download-2.jpg
END:VEVENT
BEGIN:VEVENT
DTSTART;TZID=UTC:20260219T120000
DTEND;TZID=UTC:20260219T123000
DTSTAMP:20260420T061545
CREATED:20251205T173045Z
LAST-MODIFIED:20251205T173045Z
UID:5180-1771502400-1771504200@arkansastransit.com
SUMMARY:General Transit Feed Specification (GTFS) Office Hours
DESCRIPTION:General Transit Feed Specification (GTFS) Office Hours\nGTFS is split into a schedule component that contains schedule\, fare\, and geographic transit information and a real-time component that contains arrival predictions\, vehicle positions and service advisories. Information about routes\, schedules\, and fares are represented in basic text files\, which means it can be created and maintained without the use of complicated or proprietary software. \nIntended for: Transit Agencies \nCost: FREE \nRegister Here: Click here
URL:https://arkansastransit.com/event/general-transit-feed-specification-gtfs-office-hours-123/
LOCATION:Online (Zoom)
CATEGORIES:Online/Webinar
ATTACH;FMTTYPE=image/jpeg:https://arkansastransit.com/wp-content/uploads/2023/05/download-2.jpg
END:VEVENT
BEGIN:VEVENT
DTSTART;TZID=UTC:20260224T120000
DTEND;TZID=UTC:20260224T123000
DTSTAMP:20260420T061545
CREATED:20251205T172917Z
LAST-MODIFIED:20251205T172917Z
UID:5174-1771934400-1771936200@arkansastransit.com
SUMMARY:Website Builder Office Hours
DESCRIPTION:Website Builder Office Hours \nSince 2011\, Website Builder has allowed users to create and design websites that are hosted on the National RTAP server free of charge. Recently\, National RTAP released Website Builder 3.0 using customer feedback and the latest technology to make creating\, editing and launching your website as easy as possible. \nCheck out some rural transit websites built with National RTAP’s Website Builder: \n\nAccess Allegany (New York)\nNeed A Ride (New York)\nGo Blue Transit (Texas)\nNebraska Public Transit (Nebraska)\nBluefield Area Transit (West Virginia)\n\nHere are examples of a State RTAP website and transit association website\, both built with Website Builder. \n\nIndiana RTAP\nCTANW (Community Transportation Association of the Northwest)\n\nReady to begin? Click on the Create My Website button. You will be prompted to create or sign in to your National RTAP account. Once logged in\, several website templates will appear. Select your preferred template by clicking “Start Building.” You will be prompted to create an account for your website. This is a different from your National RTAP account. \n\nIntended for: Transit Agencies \nCost: FREE \nRegister Here: Click here
URL:https://arkansastransit.com/event/website-builder-office-hours-94/
CATEGORIES:Online/Webinar
ATTACH;FMTTYPE=image/jpeg:https://arkansastransit.com/wp-content/uploads/2023/05/download-2.jpg
END:VEVENT
BEGIN:VEVENT
DTSTART;TZID=UTC:20260226T100000
DTEND;TZID=UTC:20260226T103000
DTSTAMP:20260420T061545
CREATED:20260116T162054Z
LAST-MODIFIED:20260205T184123Z
UID:5205-1772100000-1772101800@arkansastransit.com
SUMMARY:Railroad Crossing Safety with Operation Lifesaver
DESCRIPTION:Railroad Crossing Safety with Operation Lifesaver \nATA is teaming up with Operation Lifesaver to offer a FREE webinar on Railroad Crossing Safety. It is designed to increase driver awareness of the potential dangers at highway-rail grade crossings and to ensure the safety of their passengers and themselves. Several situations that resulted in tragedy are reviewed to help drivers learn to make smart decisions as they approach\, cross\, and drop off passengers near highway-rail grade crossings. \nThis webinar will be presented by Operation Lifesaver expert instructor Ron Hale\, a 40-year veteran of Union Pacific Railroad. \nAll registered attendees will receive a certificate of attendance. \n\nIntended for: Drivers \nLocation:  Zoom (you will receive a link via email prior to the class) \nCost: FREE \nRegistration Link:  Click Here
URL:https://arkansastransit.com/event/railroad-crossing-safety-with-operation-lifesaver-2/
CATEGORIES:Online/Webinar
ATTACH;FMTTYPE=image/png:https://arkansastransit.com/wp-content/uploads/2023/04/Untitled-design-8-e1683587587306.png
END:VEVENT
BEGIN:VEVENT
DTSTART;TZID=UTC:20260226T120000
DTEND;TZID=UTC:20260226T123000
DTSTAMP:20260420T061545
CREATED:20251205T173111Z
LAST-MODIFIED:20251205T173111Z
UID:5182-1772107200-1772109000@arkansastransit.com
SUMMARY:General Transit Feed Specification (GTFS) Office Hours
DESCRIPTION:General Transit Feed Specification (GTFS) Office Hours\nGTFS is split into a schedule component that contains schedule\, fare\, and geographic transit information and a real-time component that contains arrival predictions\, vehicle positions and service advisories. Information about routes\, schedules\, and fares are represented in basic text files\, which means it can be created and maintained without the use of complicated or proprietary software. \nIntended for: Transit Agencies \nCost: FREE \nRegister Here: Click here
URL:https://arkansastransit.com/event/general-transit-feed-specification-gtfs-office-hours-124/
LOCATION:Online (Zoom)
CATEGORIES:Online/Webinar
ATTACH;FMTTYPE=image/jpeg:https://arkansastransit.com/wp-content/uploads/2023/05/download-2.jpg
END:VEVENT
BEGIN:VEVENT
DTSTART;TZID=UTC:20260227T100000
DTEND;TZID=UTC:20260227T120000
DTSTAMP:20260420T061545
CREATED:20260225T153928Z
LAST-MODIFIED:20260225T153928Z
UID:5243-1772186400-1772193600@arkansastransit.com
SUMMARY:ATA Board of Director's Special Meeting
DESCRIPTION:ATA Board of Director’s Special Meeting \nTime: 2:30 p.m. \nWhere: (ZOOM)
URL:https://arkansastransit.com/event/ata-board-of-directors-special-meeting-4/
CATEGORIES:At ATA
ATTACH;FMTTYPE=image/jpeg:https://arkansastransit.com/wp-content/uploads/2023/05/2122.jpg
END:VEVENT
END:VCALENDAR