BEGIN:VCALENDAR
VERSION:2.0
PRODID:-//Arkansas Transit Association - ECPv6.0.13//NONSGML v1.0//EN
CALSCALE:GREGORIAN
METHOD:PUBLISH
X-WR-CALNAME:Arkansas Transit Association
X-ORIGINAL-URL:https://arkansastransit.com
X-WR-CALDESC:Events for Arkansas Transit Association
REFRESH-INTERVAL;VALUE=DURATION:PT1H
X-Robots-Tag:noindex
X-PUBLISHED-TTL:PT1H
BEGIN:VTIMEZONE
TZID:UTC
BEGIN:STANDARD
TZOFFSETFROM:+0000
TZOFFSETTO:+0000
TZNAME:UTC
DTSTART:20250101T000000
END:STANDARD
END:VTIMEZONE
BEGIN:VEVENT
DTSTART;TZID=UTC:20250902T120000
DTEND;TZID=UTC:20250902T123000
DTSTAMP:20260420T135710
CREATED:20250715T195801Z
LAST-MODIFIED:20250715T195801Z
UID:4771-1756814400-1756816200@arkansastransit.com
SUMMARY:Website Builder Office Hours
DESCRIPTION:Website Builder Office Hours \nSince 2011\, Website Builder has allowed users to create and design websites that are hosted on the National RTAP server free of charge. Recently\, National RTAP released Website Builder 3.0 using customer feedback and the latest technology to make creating\, editing and launching your website as easy as possible. \nCheck out some rural transit websites built with National RTAP’s Website Builder: \n\nAccess Allegany (New York)\nNeed A Ride (New York)\nGo Blue Transit (Texas)\nNebraska Public Transit (Nebraska)\nBluefield Area Transit (West Virginia)\n\nHere are examples of a State RTAP website and transit association website\, both built with Website Builder. \n\nIndiana RTAP\nCTANW (Community Transportation Association of the Northwest)\n\nReady to begin? Click on the Create My Website button. You will be prompted to create or sign in to your National RTAP account. Once logged in\, several website templates will appear. Select your preferred template by clicking “Start Building.” You will be prompted to create an account for your website. This is a different from your National RTAP account. \n\nIntended for: All \nCost: FREE \nRegister Here: Click here
URL:https://arkansastransit.com/event/website-builder-office-hours-69/
CATEGORIES:Online/Webinar
ATTACH;FMTTYPE=image/jpeg:https://arkansastransit.com/wp-content/uploads/2023/05/download-2.jpg
END:VEVENT
BEGIN:VEVENT
DTSTART;TZID=UTC:20250904T120000
DTEND;TZID=UTC:20250904T123000
DTSTAMP:20260420T135710
CREATED:20250715T195819Z
LAST-MODIFIED:20250715T195819Z
UID:4773-1756987200-1756989000@arkansastransit.com
SUMMARY:General Transit Feed Specification (GTFS) Office Hours
DESCRIPTION:General Transit Feed Specification (GTFS) Office Hours\nGTFS is split into a schedule component that contains schedule\, fare\, and geographic transit information and a real-time component that contains arrival predictions\, vehicle positions and service advisories. Information about routes\, schedules\, and fares are represented in basic text files\, which means it can be created and maintained without the use of complicated or proprietary software. \nIntended for: Transit Agencies \nCost: FREE \nRegister Here: Click here
URL:https://arkansastransit.com/event/general-transit-feed-specification-gtfs-office-hours-102/
LOCATION:Online (Zoom)
CATEGORIES:Online/Webinar
ATTACH;FMTTYPE=image/jpeg:https://arkansastransit.com/wp-content/uploads/2023/05/download-2.jpg
END:VEVENT
BEGIN:VEVENT
DTSTART;TZID=UTC:20250909T120000
DTEND;TZID=UTC:20250909T123000
DTSTAMP:20260420T135710
CREATED:20250715T195833Z
LAST-MODIFIED:20250715T195833Z
UID:4775-1757419200-1757421000@arkansastransit.com
SUMMARY:Website Builder Office Hours
DESCRIPTION:Website Builder Office Hours \nSince 2011\, Website Builder has allowed users to create and design websites that are hosted on the National RTAP server free of charge. Recently\, National RTAP released Website Builder 3.0 using customer feedback and the latest technology to make creating\, editing and launching your website as easy as possible. \nCheck out some rural transit websites built with National RTAP’s Website Builder: \n\nAccess Allegany (New York)\nNeed A Ride (New York)\nGo Blue Transit (Texas)\nNebraska Public Transit (Nebraska)\nBluefield Area Transit (West Virginia)\n\nHere are examples of a State RTAP website and transit association website\, both built with Website Builder. \n\nIndiana RTAP\nCTANW (Community Transportation Association of the Northwest)\n\nReady to begin? Click on the Create My Website button. You will be prompted to create or sign in to your National RTAP account. Once logged in\, several website templates will appear. Select your preferred template by clicking “Start Building.” You will be prompted to create an account for your website. This is a different from your National RTAP account. \n\nIntended for: All \nCost: FREE \nRegister Here: Click here
URL:https://arkansastransit.com/event/website-builder-office-hours-70/
CATEGORIES:Online/Webinar
ATTACH;FMTTYPE=image/jpeg:https://arkansastransit.com/wp-content/uploads/2023/05/download-2.jpg
END:VEVENT
BEGIN:VEVENT
DTSTART;TZID=UTC:20250909T130000
DTEND;TZID=UTC:20250909T143000
DTSTAMP:20260420T135710
CREATED:20250820T150534Z
LAST-MODIFIED:20250820T150534Z
UID:4828-1757422800-1757428200@arkansastransit.com
SUMMARY:National Transit Database: Annual Reporting for State DOTs and Subrecipients
DESCRIPTION:National Transit Database: Annual Reporting for State DOTs and Subrecipients\nThe goal of this webinar is to help Rural Transit professionals learn the requirements for reporting Rural transit data to the NTD online reporting tool. \nKey components of this webinar will include:\n• “Who” reports and “What” to report\n• NTD annual reporting website\, functionality and automation\n• The standard NTD reporting modules (Basic Information\, Financial\, Asset\, and Service)\n• Reporting Requirements Changes for Report Year 2024 \nIntended for: Transit Agencies \nCost: FREE \nRegister Here: Click here
URL:https://arkansastransit.com/event/national-transit-database-annual-reporting-for-state-dots-and-subrecipients-2/
LOCATION:Online (Zoom)
CATEGORIES:Online/Webinar
ATTACH;FMTTYPE=image/jpeg:https://arkansastransit.com/wp-content/uploads/2023/05/download-2.jpg
END:VEVENT
BEGIN:VEVENT
DTSTART;TZID=UTC:20250911T120000
DTEND;TZID=UTC:20250911T123000
DTSTAMP:20260420T135710
CREATED:20250715T195933Z
LAST-MODIFIED:20250715T195933Z
UID:4777-1757592000-1757593800@arkansastransit.com
SUMMARY:General Transit Feed Specification (GTFS) Office Hours
DESCRIPTION:General Transit Feed Specification (GTFS) Office Hours\nGTFS is split into a schedule component that contains schedule\, fare\, and geographic transit information and a real-time component that contains arrival predictions\, vehicle positions and service advisories. Information about routes\, schedules\, and fares are represented in basic text files\, which means it can be created and maintained without the use of complicated or proprietary software. \nIntended for: Transit Agencies \nCost: FREE \nRegister Here: Click here
URL:https://arkansastransit.com/event/general-transit-feed-specification-gtfs-office-hours-103/
LOCATION:Online (Zoom)
CATEGORIES:Online/Webinar
ATTACH;FMTTYPE=image/jpeg:https://arkansastransit.com/wp-content/uploads/2023/05/download-2.jpg
END:VEVENT
BEGIN:VEVENT
DTSTART;TZID=UTC:20250916T120000
DTEND;TZID=UTC:20250916T123000
DTSTAMP:20260420T135710
CREATED:20250715T195949Z
LAST-MODIFIED:20250715T195949Z
UID:4779-1758024000-1758025800@arkansastransit.com
SUMMARY:Website Builder Office Hours
DESCRIPTION:Website Builder Office Hours \nSince 2011\, Website Builder has allowed users to create and design websites that are hosted on the National RTAP server free of charge. Recently\, National RTAP released Website Builder 3.0 using customer feedback and the latest technology to make creating\, editing and launching your website as easy as possible. \nCheck out some rural transit websites built with National RTAP’s Website Builder: \n\nAccess Allegany (New York)\nNeed A Ride (New York)\nGo Blue Transit (Texas)\nNebraska Public Transit (Nebraska)\nBluefield Area Transit (West Virginia)\n\nHere are examples of a State RTAP website and transit association website\, both built with Website Builder. \n\nIndiana RTAP\nCTANW (Community Transportation Association of the Northwest)\n\nReady to begin? Click on the Create My Website button. You will be prompted to create or sign in to your National RTAP account. Once logged in\, several website templates will appear. Select your preferred template by clicking “Start Building.” You will be prompted to create an account for your website. This is a different from your National RTAP account. \n\nIntended for: All \nCost: FREE \nRegister Here: Click here
URL:https://arkansastransit.com/event/website-builder-office-hours-71/
CATEGORIES:Online/Webinar
ATTACH;FMTTYPE=image/jpeg:https://arkansastransit.com/wp-content/uploads/2023/05/download-2.jpg
END:VEVENT
BEGIN:VEVENT
DTSTART;TZID=UTC:20250916T130000
DTEND;TZID=UTC:20250917T143000
DTSTAMP:20260420T135710
CREATED:20250910T145751Z
LAST-MODIFIED:20250910T145751Z
UID:4871-1758027600-1758119400@arkansastransit.com
SUMMARY:Easing into the Recent General Transit Feed Specification (GTFS) NTD Reporting Requirements: Understanding How to Create GTFS Route and Stop Shapes
DESCRIPTION:Easing into the Recent General Transit Feed Specification (GTFS) NTD Reporting Requirements: Understanding How to Create GTFS Route and Stop Shapes \nThis virtual workshop will provide a brief overview of GTFS Builder before digging deeper into creating shapes. Shapes refer to snapping fixed-route lines and bus stops to the road. GTFS shapes help riders visualize where a bus is traveling and help to confirm the bus stops are located on the correct side of the street. \nCost: FREE \nRegister Here: Click here
URL:https://arkansastransit.com/event/easing-into-the-recent-general-transit-feed-specification-gtfs-ntd-reporting-requirements-understanding-how-to-create-gtfs-route-and-stop-shapes/
LOCATION:Online (Zoom)
CATEGORIES:Online/Webinar
ATTACH;FMTTYPE=image/jpeg:https://arkansastransit.com/wp-content/uploads/2023/05/download-2.jpg
END:VEVENT
BEGIN:VEVENT
DTSTART;TZID=UTC:20250917T110000
DTEND;TZID=UTC:20250917T120000
DTSTAMP:20260420T135710
CREATED:20250820T150844Z
LAST-MODIFIED:20250820T150844Z
UID:4830-1758106800-1758110400@arkansastransit.com
SUMMARY:Offering Alternatives: Creating Partnerships to Manage Paratransit Ridership
DESCRIPTION:Offering Alternatives: Creating Partnerships to Manage Paratransit Ridership \nWhen thinking about transportation options for people with disabilities\, many automatically consider paratransit service as the only solution. However\, through innovative partnerships and a coordinated mobility management framework\, alternative transportation services can offer an important transportation choice for riders with disabilities. This panel will describe partnership models that create efficient\, effective\, and high-quality transportation solutions for riders – empowering them to seek innovative mobility options. \n\nIntended for: All \nCost: FREE \nRegister Here: Click here
URL:https://arkansastransit.com/event/offering-alternatives-creating-partnerships-to-manage-paratransit-ridership/
CATEGORIES:Online/Webinar
ATTACH;FMTTYPE=image/jpeg:https://arkansastransit.com/wp-content/uploads/2024/07/download.jpg
END:VEVENT
BEGIN:VEVENT
DTSTART;TZID=UTC:20250917T140000
DTEND;TZID=UTC:20250918T140000
DTSTAMP:20260420T135710
CREATED:20250910T145959Z
LAST-MODIFIED:20250910T150015Z
UID:4873-1758117600-1758204000@arkansastransit.com
SUMMARY:FTA Rail Grade Crossing Safety
DESCRIPTION:FTA Rail Grade Crossing Safety \nAs a part of See Tracks? Think Train® Week\, this webinar will discuss strategies to improve the safety of drivers and pedestrians near transit tracks and trains. FTA will provide a high-level overview of available rail grade crossing data and resources\, followed by a presentation from LA Metro on the use of photo enforcement technology at rail grade crossings to enhance safety. \nCost: FREE \nIntended for: All \nRegister Here: Click here
URL:https://arkansastransit.com/event/fta-rail-grade-crossing-safety/
LOCATION:Online (Zoom)
CATEGORIES:Online/Webinar
ATTACH;FMTTYPE=image/png:https://arkansastransit.com/wp-content/uploads/2023/05/download-5-e1683584142564.png
END:VEVENT
BEGIN:VEVENT
DTSTART;TZID=UTC:20250918T120000
DTEND;TZID=UTC:20250918T123000
DTSTAMP:20260420T135710
CREATED:20250715T200036Z
LAST-MODIFIED:20250715T200036Z
UID:4785-1758196800-1758198600@arkansastransit.com
SUMMARY:General Transit Feed Specification (GTFS) Office Hours
DESCRIPTION:General Transit Feed Specification (GTFS) Office Hours\nGTFS is split into a schedule component that contains schedule\, fare\, and geographic transit information and a real-time component that contains arrival predictions\, vehicle positions and service advisories. Information about routes\, schedules\, and fares are represented in basic text files\, which means it can be created and maintained without the use of complicated or proprietary software. \nIntended for: Transit Agencies \nCost: FREE \nRegister Here: Click here
URL:https://arkansastransit.com/event/general-transit-feed-specification-gtfs-office-hours-104/
LOCATION:Online (Zoom)
CATEGORIES:Online/Webinar
ATTACH;FMTTYPE=image/jpeg:https://arkansastransit.com/wp-content/uploads/2023/05/download-2.jpg
END:VEVENT
BEGIN:VEVENT
DTSTART;TZID=UTC:20250923T090000
DTEND;TZID=UTC:20250923T103000
DTSTAMP:20260420T135710
CREATED:20250820T151002Z
LAST-MODIFIED:20250820T151002Z
UID:4832-1758618000-1758623400@arkansastransit.com
SUMMARY:The Importance of Improving Your Communication Skills
DESCRIPTION:The Importance of Improving Your Communication Skills\nDo you want to learn the key to effective communication? It is one of the most critical abilities in life\, but no one really teaches us how to communicate well and influence others. Excellent communication is one of the most important skills we need to learn\, and it has a big impact on our ability to be successful. Effective communication can make or break our careers and our relationships. There are very few areas in our lives in which we can succeed in the long run without this crucial skill. This workshop focuses on verbal communication skills…improving your competency\, ability\, and attitude toward understanding others and being understood. It will help you answer the question: What can I do better\, more simply\, differently\, and more effectively to improve my communication with other people? \nIntended for: All \nCost: FREE \nRegister Here: Click here
URL:https://arkansastransit.com/event/the-importance-of-improving-your-communication-skills/
LOCATION:Online (Zoom)
CATEGORIES:Online/Webinar
ATTACH;FMTTYPE=image/jpeg:https://arkansastransit.com/wp-content/uploads/2024/07/download.jpg
END:VEVENT
BEGIN:VEVENT
DTSTART;TZID=UTC:20250923T120000
DTEND;TZID=UTC:20250923T123000
DTSTAMP:20260420T135710
CREATED:20250715T200003Z
LAST-MODIFIED:20250715T200003Z
UID:4781-1758628800-1758630600@arkansastransit.com
SUMMARY:Website Builder Office Hours
DESCRIPTION:Website Builder Office Hours \nSince 2011\, Website Builder has allowed users to create and design websites that are hosted on the National RTAP server free of charge. Recently\, National RTAP released Website Builder 3.0 using customer feedback and the latest technology to make creating\, editing and launching your website as easy as possible. \nCheck out some rural transit websites built with National RTAP’s Website Builder: \n\nAccess Allegany (New York)\nNeed A Ride (New York)\nGo Blue Transit (Texas)\nNebraska Public Transit (Nebraska)\nBluefield Area Transit (West Virginia)\n\nHere are examples of a State RTAP website and transit association website\, both built with Website Builder. \n\nIndiana RTAP\nCTANW (Community Transportation Association of the Northwest)\n\nReady to begin? Click on the Create My Website button. You will be prompted to create or sign in to your National RTAP account. Once logged in\, several website templates will appear. Select your preferred template by clicking “Start Building.” You will be prompted to create an account for your website. This is a different from your National RTAP account. \n\nIntended for: All \nCost: FREE \nRegister Here: Click here
URL:https://arkansastransit.com/event/website-builder-office-hours-72/
CATEGORIES:Online/Webinar
ATTACH;FMTTYPE=image/jpeg:https://arkansastransit.com/wp-content/uploads/2023/05/download-2.jpg
END:VEVENT
BEGIN:VEVENT
DTSTART;TZID=UTC:20250925T120000
DTEND;TZID=UTC:20250925T123000
DTSTAMP:20260420T135710
CREATED:20250715T200052Z
LAST-MODIFIED:20250715T200052Z
UID:4787-1758801600-1758803400@arkansastransit.com
SUMMARY:General Transit Feed Specification (GTFS) Office Hours
DESCRIPTION:General Transit Feed Specification (GTFS) Office Hours\nGTFS is split into a schedule component that contains schedule\, fare\, and geographic transit information and a real-time component that contains arrival predictions\, vehicle positions and service advisories. Information about routes\, schedules\, and fares are represented in basic text files\, which means it can be created and maintained without the use of complicated or proprietary software. \nIntended for: Transit Agencies \nCost: FREE \nRegister Here: Click here
URL:https://arkansastransit.com/event/general-transit-feed-specification-gtfs-office-hours-105/
LOCATION:Online (Zoom)
CATEGORIES:Online/Webinar
ATTACH;FMTTYPE=image/jpeg:https://arkansastransit.com/wp-content/uploads/2023/05/download-2.jpg
END:VEVENT
BEGIN:VEVENT
DTSTART;TZID=UTC:20250925T130000
DTEND;TZID=UTC:20250925T143000
DTSTAMP:20260420T135710
CREATED:20250820T150452Z
LAST-MODIFIED:20250820T150452Z
UID:4826-1758805200-1758810600@arkansastransit.com
SUMMARY:National Transit Database: Annual Reporting for State DOTs and Subrecipients
DESCRIPTION:National Transit Database: Annual Reporting for State DOTs and Subrecipients\nThe goal of this webinar is to help Rural Transit professionals learn the requirements for reporting Rural transit data to the NTD online reporting tool. \nKey components of this webinar will include:\n• “Who” reports and “What” to report\n• NTD annual reporting website\, functionality and automation\n• The standard NTD reporting modules (Basic Information\, Financial\, Asset\, and Service)\n• Reporting Requirements Changes for Report Year 2024 \nIntended for: Transit Agencies \nCost: FREE \nRegister Here: Click here
URL:https://arkansastransit.com/event/national-transit-database-annual-reporting-for-state-dots-and-subrecipients/
LOCATION:Online (Zoom)
CATEGORIES:Online/Webinar
ATTACH;FMTTYPE=image/jpeg:https://arkansastransit.com/wp-content/uploads/2023/05/download-2.jpg
END:VEVENT
BEGIN:VEVENT
DTSTART;VALUE=DATE:20250929
DTEND;VALUE=DATE:20251002
DTSTAMP:20260420T135710
CREATED:20240123T161959Z
LAST-MODIFIED:20250919T173528Z
UID:2951-1759104000-1759363199@arkansastransit.com
SUMMARY:2025 Arkansas Public Transportation Conference
DESCRIPTION:Mark your Calendars!\n  \n \nThe Arkansas Transit (ATA) is thrilled to announce that the 2024 Arkansas Public Transportation Conference will take place on September 29-October 1\, 2025 at the Wyndham in Fort Smith\, Arkansas. We will share more details about the conference later this spring\, so stay tuned. \nMake sure to follow ATA’s Facebook and website for updates\, so you don’t miss a thing. If you have any questions\, please don’t hesitate to reach out to Rebecca East at reast@arktransit.org. We can’t wait to see you there!
URL:https://arkansastransit.com/event/arkansas-public-transportation-conference-2/
CATEGORIES:Conferences/Regional and National Events
END:VEVENT
BEGIN:VEVENT
DTSTART;TZID=UTC:20250930T120000
DTEND;TZID=UTC:20250930T123000
DTSTAMP:20260420T135710
CREATED:20250715T200017Z
LAST-MODIFIED:20250715T200017Z
UID:4783-1759233600-1759235400@arkansastransit.com
SUMMARY:Website Builder Office Hours
DESCRIPTION:Website Builder Office Hours \nSince 2011\, Website Builder has allowed users to create and design websites that are hosted on the National RTAP server free of charge. Recently\, National RTAP released Website Builder 3.0 using customer feedback and the latest technology to make creating\, editing and launching your website as easy as possible. \nCheck out some rural transit websites built with National RTAP’s Website Builder: \n\nAccess Allegany (New York)\nNeed A Ride (New York)\nGo Blue Transit (Texas)\nNebraska Public Transit (Nebraska)\nBluefield Area Transit (West Virginia)\n\nHere are examples of a State RTAP website and transit association website\, both built with Website Builder. \n\nIndiana RTAP\nCTANW (Community Transportation Association of the Northwest)\n\nReady to begin? Click on the Create My Website button. You will be prompted to create or sign in to your National RTAP account. Once logged in\, several website templates will appear. Select your preferred template by clicking “Start Building.” You will be prompted to create an account for your website. This is a different from your National RTAP account. \n\nIntended for: All \nCost: FREE \nRegister Here: Click here
URL:https://arkansastransit.com/event/website-builder-office-hours-73/
CATEGORIES:Online/Webinar
ATTACH;FMTTYPE=image/jpeg:https://arkansastransit.com/wp-content/uploads/2023/05/download-2.jpg
END:VEVENT
BEGIN:VEVENT
DTSTART;TZID=UTC:20250930T120000
DTEND;TZID=UTC:20250930T131500
DTSTAMP:20260420T135710
CREATED:20250919T172659Z
LAST-MODIFIED:20250919T173111Z
UID:4880-1759233600-1759238100@arkansastransit.com
SUMMARY:Annual Membership Meeting 2025
DESCRIPTION:Annual Membership Meeting \nWhere: Wyndham Hotel\, Fort Smith \nDate: September 30\, 2025 \nTime: 12:00 – 1:15 pm
URL:https://arkansastransit.com/event/annual-membership-meeting-2025/
CATEGORIES:Conferences/Regional and National Events
ATTACH;FMTTYPE=image/jpeg:https://arkansastransit.com/wp-content/uploads/2025/01/ATA_2025_conference_logo_v2.jpg
END:VEVENT
BEGIN:VEVENT
DTSTART;TZID=UTC:20250930T132000
DTEND;TZID=UTC:20250930T133000
DTSTAMP:20260420T135710
CREATED:20250919T172929Z
LAST-MODIFIED:20250919T173029Z
UID:4884-1759238400-1759239000@arkansastransit.com
SUMMARY:ATA Annual Board of Directors' Meeting
DESCRIPTION:ATA Annual Board of Directors’ Meeting \nWhere: Wyndham Hotel\, Fort Smith \nDate: September 30\, 2025 \nTime: 1:20 p.m.
URL:https://arkansastransit.com/event/ata-annual-board-of-directors-meeting-4/
CATEGORIES:Conferences/Regional and National Events
ATTACH;FMTTYPE=image/png:https://arkansastransit.com/wp-content/uploads/2023/04/Untitled-design-7-e1683129423390.png
END:VEVENT
END:VCALENDAR