BEGIN:VCALENDAR
VERSION:2.0
PRODID:-//Arkansas Transit Association - ECPv6.0.13//NONSGML v1.0//EN
CALSCALE:GREGORIAN
METHOD:PUBLISH
X-ORIGINAL-URL:https://arkansastransit.com
X-WR-CALDESC:Events for Arkansas Transit Association
REFRESH-INTERVAL;VALUE=DURATION:PT1H
X-Robots-Tag:noindex
X-PUBLISHED-TTL:PT1H
BEGIN:VTIMEZONE
TZID:UTC
BEGIN:STANDARD
TZOFFSETFROM:+0000
TZOFFSETTO:+0000
TZNAME:UTC
DTSTART:20260101T000000
END:STANDARD
END:VTIMEZONE
BEGIN:VEVENT
DTSTART;TZID=UTC:20260303T100000
DTEND;TZID=UTC:20260303T110000
DTSTAMP:20260423T152002
CREATED:20260116T162330Z
LAST-MODIFIED:20260205T201953Z
UID:5207-1772532000-1772535600@arkansastransit.com
SUMMARY:The Impact of Alzheimer's and Dementia in Our Community: Sensitivity\, Awareness\, and Communication for Transportation Professionals
DESCRIPTION:The Impact of Alzheimer’s and Dementia in Our Community: Sensitivity\, Awareness\, and Communication for Transportation Professionals \nATA is partnering with the Alzheimer’s Association to deliver a new webinar\, The Impact of Alzheimer’s and Dementia in Our Community.  During this free 1-hour webinar\, learn how Alzheimer’s and dementia affects our community and your role as a transportation professional.  Become educated on warning signs\, communication strategies\, and understanding dementia related behaviors. \nAll registered attendees will receive a certificate of attendance. \nYou will receive a Zoom link via email prior to the webinar. \n\nIntended: All \nLocation:  Zoom (you will receive a link via email prior to the class) \nCost: FREE \nRegistration Link: Click here
URL:https://arkansastransit.com/event/alzheimers-dementia-sensitivity-awareness-and-communication-for-transportation-professionals/
CATEGORIES:Online/Webinar
END:VEVENT
END:VCALENDAR