BEGIN:VCALENDAR
VERSION:2.0
PRODID:-//Arkansas Transit Association - ECPv6.0.13//NONSGML v1.0//EN
CALSCALE:GREGORIAN
METHOD:PUBLISH
X-ORIGINAL-URL:https://arkansastransit.com
X-WR-CALDESC:Events for Arkansas Transit Association
REFRESH-INTERVAL;VALUE=DURATION:PT1H
X-Robots-Tag:noindex
X-PUBLISHED-TTL:PT1H
BEGIN:VTIMEZONE
TZID:UTC
BEGIN:STANDARD
TZOFFSETFROM:+0000
TZOFFSETTO:+0000
TZNAME:UTC
DTSTART:20260101T000000
END:STANDARD
END:VTIMEZONE
BEGIN:VEVENT
DTSTART;TZID=UTC:20260226T100000
DTEND;TZID=UTC:20260226T103000
DTSTAMP:20260423T164358
CREATED:20260116T162054Z
LAST-MODIFIED:20260205T184123Z
UID:5205-1772100000-1772101800@arkansastransit.com
SUMMARY:Railroad Crossing Safety with Operation Lifesaver
DESCRIPTION:Railroad Crossing Safety with Operation Lifesaver \nATA is teaming up with Operation Lifesaver to offer a FREE webinar on Railroad Crossing Safety. It is designed to increase driver awareness of the potential dangers at highway-rail grade crossings and to ensure the safety of their passengers and themselves. Several situations that resulted in tragedy are reviewed to help drivers learn to make smart decisions as they approach\, cross\, and drop off passengers near highway-rail grade crossings. \nThis webinar will be presented by Operation Lifesaver expert instructor Ron Hale\, a 40-year veteran of Union Pacific Railroad. \nAll registered attendees will receive a certificate of attendance. \n\nIntended for: Drivers \nLocation:  Zoom (you will receive a link via email prior to the class) \nCost: FREE \nRegistration Link:  Click Here
URL:https://arkansastransit.com/event/railroad-crossing-safety-with-operation-lifesaver-2/
CATEGORIES:Online/Webinar
ATTACH;FMTTYPE=image/png:https://arkansastransit.com/wp-content/uploads/2023/04/Untitled-design-8-e1683587587306.png
END:VEVENT
BEGIN:VEVENT
DTSTART;TZID=UTC:20260226T120000
DTEND;TZID=UTC:20260226T123000
DTSTAMP:20260423T164358
CREATED:20251205T173111Z
LAST-MODIFIED:20251205T173111Z
UID:5182-1772107200-1772109000@arkansastransit.com
SUMMARY:General Transit Feed Specification (GTFS) Office Hours
DESCRIPTION:General Transit Feed Specification (GTFS) Office Hours\nGTFS is split into a schedule component that contains schedule\, fare\, and geographic transit information and a real-time component that contains arrival predictions\, vehicle positions and service advisories. Information about routes\, schedules\, and fares are represented in basic text files\, which means it can be created and maintained without the use of complicated or proprietary software. \nIntended for: Transit Agencies \nCost: FREE \nRegister Here: Click here
URL:https://arkansastransit.com/event/general-transit-feed-specification-gtfs-office-hours-124/
LOCATION:Online (Zoom)
CATEGORIES:Online/Webinar
ATTACH;FMTTYPE=image/jpeg:https://arkansastransit.com/wp-content/uploads/2023/05/download-2.jpg
END:VEVENT
END:VCALENDAR