BEGIN:VCALENDAR
VERSION:2.0
PRODID:-//Arkansas Transit Association - ECPv6.0.13//NONSGML v1.0//EN
CALSCALE:GREGORIAN
METHOD:PUBLISH
X-ORIGINAL-URL:https://arkansastransit.com
X-WR-CALDESC:Events for Arkansas Transit Association
REFRESH-INTERVAL;VALUE=DURATION:PT1H
X-Robots-Tag:noindex
X-PUBLISHED-TTL:PT1H
BEGIN:VTIMEZONE
TZID:UTC
BEGIN:STANDARD
TZOFFSETFROM:+0000
TZOFFSETTO:+0000
TZNAME:UTC
DTSTART:20260101T000000
END:STANDARD
END:VTIMEZONE
BEGIN:VEVENT
DTSTART;TZID=UTC:20260211T120000
DTEND;TZID=UTC:20260211T133000
DTSTAMP:20260423T164359
CREATED:20260116T161624Z
LAST-MODIFIED:20260116T161624Z
UID:5201-1770811200-1770816600@arkansastransit.com
SUMMARY:AI Uses for Transportation Systems Management and Operations
DESCRIPTION:AI Uses for Transportation Systems Management and Operations \nThis webinar will look at how agencies can incorporate Artificial Intelligence (AI)-driven systems into transportation systems management and operations (TSMO). \n\nIntended for: All \nCost: FREE \nRegister Here: Click here
URL:https://arkansastransit.com/event/ai-uses-for-transportation-systems-management-and-operations/
CATEGORIES:Online/Webinar
ATTACH;FMTTYPE=image/png:https://arkansastransit.com/wp-content/uploads/2025/10/download.png
END:VEVENT
END:VCALENDAR