BEGIN:VCALENDAR
VERSION:2.0
PRODID:-//Arkansas Transit Association - ECPv6.0.13//NONSGML v1.0//EN
CALSCALE:GREGORIAN
METHOD:PUBLISH
X-ORIGINAL-URL:https://arkansastransit.com
X-WR-CALDESC:Events for Arkansas Transit Association
REFRESH-INTERVAL;VALUE=DURATION:PT1H
X-Robots-Tag:noindex
X-PUBLISHED-TTL:PT1H
BEGIN:VTIMEZONE
TZID:UTC
BEGIN:STANDARD
TZOFFSETFROM:+0000
TZOFFSETTO:+0000
TZNAME:UTC
DTSTART:20260101T000000
END:STANDARD
END:VTIMEZONE
BEGIN:VEVENT
DTSTART;TZID=UTC:20260210T090000
DTEND;TZID=UTC:20260210T120000
DTSTAMP:20260423T164321
CREATED:20251205T172626Z
LAST-MODIFIED:20251205T172626Z
UID:5165-1770714000-1770724800@arkansastransit.com
SUMMARY:Creating an Inclusive Workplace (Disabilities)
DESCRIPTION:Creating an Inclusive Workplace (Disabilities) \nTransit agencies across the country are working to build stronger\, more inclusive workplaces that welcome and support employees of all abilities. This webinar provides practical strategies to help transit leaders\, HR staff\, and frontline supervisors create environments where people with disabilities can thrive. \n\nIntended for: All \nCost: FREE \nRegister Here: Click here
URL:https://arkansastransit.com/event/creating-an-inclusive-workplace-disabilities/
CATEGORIES:Online/Webinar
ATTACH;FMTTYPE=image/jpeg:https://arkansastransit.com/wp-content/uploads/2024/07/download.jpg
END:VEVENT
BEGIN:VEVENT
DTSTART;TZID=UTC:20260210T120000
DTEND;TZID=UTC:20260210T123000
DTSTAMP:20260423T164321
CREATED:20251205T172838Z
LAST-MODIFIED:20251205T172838Z
UID:5170-1770724800-1770726600@arkansastransit.com
SUMMARY:Website Builder Office Hours
DESCRIPTION:Website Builder Office Hours \nSince 2011\, Website Builder has allowed users to create and design websites that are hosted on the National RTAP server free of charge. Recently\, National RTAP released Website Builder 3.0 using customer feedback and the latest technology to make creating\, editing and launching your website as easy as possible. \nCheck out some rural transit websites built with National RTAP’s Website Builder: \n\nAccess Allegany (New York)\nNeed A Ride (New York)\nGo Blue Transit (Texas)\nNebraska Public Transit (Nebraska)\nBluefield Area Transit (West Virginia)\n\nHere are examples of a State RTAP website and transit association website\, both built with Website Builder. \n\nIndiana RTAP\nCTANW (Community Transportation Association of the Northwest)\n\nReady to begin? Click on the Create My Website button. You will be prompted to create or sign in to your National RTAP account. Once logged in\, several website templates will appear. Select your preferred template by clicking “Start Building.” You will be prompted to create an account for your website. This is a different from your National RTAP account. \n\nIntended for: Transit Agencies \nCost: FREE \nRegister Here: Click here
URL:https://arkansastransit.com/event/website-builder-office-hours-92/
CATEGORIES:Online/Webinar
ATTACH;FMTTYPE=image/jpeg:https://arkansastransit.com/wp-content/uploads/2023/05/download-2.jpg
END:VEVENT
BEGIN:VEVENT
DTSTART;TZID=UTC:20260210T150000
DTEND;TZID=UTC:20260210T160000
DTSTAMP:20260423T164321
CREATED:20260116T161434Z
LAST-MODIFIED:20260116T161434Z
UID:5199-1770735600-1770739200@arkansastransit.com
SUMMARY:Preparing for Surface Transportation Reauthorization: What’s Next for EVs & Charging Infrastructure
DESCRIPTION:Preparing for Surface Transportation Reauthorization: What’s Next for EVs & Charging Infrastructure \nJoin us for a forward-looking conversation on how stakeholders can begin preparing for the next surface transportation reauthorization. This session will explore anticipated congressional priorities\, potential updates to EV-related programs\, opportunities to enhance infrastructure deployment\, and the implications of these changes for states\, utilities\, fleets\, and charging providers. \n\nIntended for: All \nCost: FREE \nRegister Here: Click here
URL:https://arkansastransit.com/event/preparing-for-surface-transportation-reauthorization-whats-next-for-evs-charging-infrastructure/
CATEGORIES:Online/Webinar
ATTACH;FMTTYPE=image/png:https://arkansastransit.com/wp-content/uploads/2024/03/download-3.png
END:VEVENT
END:VCALENDAR