BEGIN:VCALENDAR
VERSION:2.0
PRODID:-//Arkansas Transit Association - ECPv6.0.13//NONSGML v1.0//EN
CALSCALE:GREGORIAN
METHOD:PUBLISH
X-ORIGINAL-URL:https://arkansastransit.com
X-WR-CALDESC:Events for Arkansas Transit Association
REFRESH-INTERVAL;VALUE=DURATION:PT1H
X-Robots-Tag:noindex
X-PUBLISHED-TTL:PT1H
BEGIN:VTIMEZONE
TZID:UTC
BEGIN:STANDARD
TZOFFSETFROM:+0000
TZOFFSETTO:+0000
TZNAME:UTC
DTSTART:20260101T000000
END:STANDARD
END:VTIMEZONE
BEGIN:VEVENT
DTSTART;TZID=UTC:20260303T100000
DTEND;TZID=UTC:20260303T110000
DTSTAMP:20260423T135954
CREATED:20260116T162330Z
LAST-MODIFIED:20260205T201953Z
UID:5207-1772532000-1772535600@arkansastransit.com
SUMMARY:The Impact of Alzheimer's and Dementia in Our Community: Sensitivity\, Awareness\, and Communication for Transportation Professionals
DESCRIPTION:The Impact of Alzheimer’s and Dementia in Our Community: Sensitivity\, Awareness\, and Communication for Transportation Professionals \nATA is partnering with the Alzheimer’s Association to deliver a new webinar\, The Impact of Alzheimer’s and Dementia in Our Community.  During this free 1-hour webinar\, learn how Alzheimer’s and dementia affects our community and your role as a transportation professional.  Become educated on warning signs\, communication strategies\, and understanding dementia related behaviors. \nAll registered attendees will receive a certificate of attendance. \nYou will receive a Zoom link via email prior to the webinar. \n\nIntended: All \nLocation:  Zoom (you will receive a link via email prior to the class) \nCost: FREE \nRegistration Link: Click here
URL:https://arkansastransit.com/event/alzheimers-dementia-sensitivity-awareness-and-communication-for-transportation-professionals/
CATEGORIES:Online/Webinar
END:VEVENT
BEGIN:VEVENT
DTSTART;TZID=UTC:20260324T120000
DTEND;TZID=UTC:20260324T123000
DTSTAMP:20260423T135954
CREATED:20260318T150723Z
LAST-MODIFIED:20260318T150723Z
UID:5250-1774353600-1774355400@arkansastransit.com
SUMMARY:Website Builder Office Hours
DESCRIPTION:Website Builder Office Hours \nSince 2011\, Website Builder has allowed users to create and design websites that are hosted on the National RTAP server free of charge. Recently\, National RTAP released Website Builder 3.0 using customer feedback and the latest technology to make creating\, editing and launching your website as easy as possible. \nCheck out some rural transit websites built with National RTAP’s Website Builder: \n\nAccess Allegany (New York)\nNeed A Ride (New York)\nGo Blue Transit (Texas)\nNebraska Public Transit (Nebraska)\nBluefield Area Transit (West Virginia)\n\nHere are examples of a State RTAP website and transit association website\, both built with Website Builder. \n\nIndiana RTAP\nCTANW (Community Transportation Association of the Northwest)\n\nReady to begin? Click on the Create My Website button. You will be prompted to create or sign in to your National RTAP account. Once logged in\, several website templates will appear. Select your preferred template by clicking “Start Building.” You will be prompted to create an account for your website. This is a different from your National RTAP account. \n\nIntended for: Transit Agencies \nCost: FREE \nRegister Here: Click here
URL:https://arkansastransit.com/event/website-builder-office-hours-95/
CATEGORIES:Online/Webinar
ATTACH;FMTTYPE=image/jpeg:https://arkansastransit.com/wp-content/uploads/2023/05/download-2.jpg
END:VEVENT
BEGIN:VEVENT
DTSTART;TZID=UTC:20260326T110000
DTEND;TZID=UTC:20260326T110000
DTSTAMP:20260423T135954
CREATED:20260318T151034Z
LAST-MODIFIED:20260318T151034Z
UID:5254-1774522800-1774522800@arkansastransit.com
SUMMARY:ATTAIN: Bus Maintenance Apprenticeship
DESCRIPTION:ATTAIN: Bus Maintenance Apprenticeship \nATTAIN is a peer network created for transit workforce partners to explore new apprenticeship programs or enhance existing programs for their frontline workforce. This webinar will begin with a presentation outlining the process of starting a bus maintenance apprenticeship program\, the resources available to employers and their partners\, and the benefits that apprenticeship offers. Panelists from Miami-Dade Transit/TWU Local 291 (FL) and High Valley Transit (UT) will both describe their recent success in getting a bus maintenance apprenticeship pgram started. \n\nIntended: Transit Agencies \nCost: FREE \nRegistration Link: Click here
URL:https://arkansastransit.com/event/attain-bus-maintenance-apprenticeship/
CATEGORIES:Online/Webinar
ATTACH;FMTTYPE=image/jpeg:https://arkansastransit.com/wp-content/uploads/2024/05/download-1.jpg
END:VEVENT
BEGIN:VEVENT
DTSTART;TZID=UTC:20260326T120000
DTEND;TZID=UTC:20260326T123000
DTSTAMP:20260423T135954
CREATED:20260318T150748Z
LAST-MODIFIED:20260318T150748Z
UID:5252-1774526400-1774528200@arkansastransit.com
SUMMARY:General Transit Feed Specification (GTFS) Office Hours
DESCRIPTION:General Transit Feed Specification (GTFS) Office Hours\nGTFS is split into a schedule component that contains schedule\, fare\, and geographic transit information and a real-time component that contains arrival predictions\, vehicle positions and service advisories. Information about routes\, schedules\, and fares are represented in basic text files\, which means it can be created and maintained without the use of complicated or proprietary software. \nIntended for: Transit Agencies \nCost: FREE \nRegister Here: Click here
URL:https://arkansastransit.com/event/general-transit-feed-specification-gtfs-office-hours-125/
LOCATION:Online (Zoom)
CATEGORIES:Online/Webinar
ATTACH;FMTTYPE=image/jpeg:https://arkansastransit.com/wp-content/uploads/2023/05/download-2.jpg
END:VEVENT
BEGIN:VEVENT
DTSTART;TZID=UTC:20260326T120000
DTEND;TZID=UTC:20260326T133000
DTSTAMP:20260423T135954
CREATED:20260318T150649Z
LAST-MODIFIED:20260318T150649Z
UID:5248-1774526400-1774531800@arkansastransit.com
SUMMARY:Making Safe the Easy Choice: Practical Behavior Strategies to Influence Safer Road Behaviors
DESCRIPTION:Making Safe the Easy Choice: Practical Behavior Strategies to Influence Safer Road Behaviors \nWhile infrastructure and policy are essential for improving road safety\, the decisions people make behind the wheel also play a critical role. This session explores practical insights from behavioral science that can help make safer choices easier and more likely. Participants will learn how fast decision-making\, emotions\, and social context influence behavior\, and how these insights can strengthen traffic safety efforts \n\nIntended: All \nCost: FREE \nRegistration Link: Click here
URL:https://arkansastransit.com/event/making-safe-the-easy-choice-practical-behavior-strategies-to-influence-safer-road-behaviors/
CATEGORIES:Online/Webinar
ATTACH;FMTTYPE=image/png:https://arkansastransit.com/wp-content/uploads/2025/05/3adf135d-d6cb-4756-9ab4-30a2b9b3d92d.png
END:VEVENT
BEGIN:VEVENT
DTSTART;TZID=UTC:20260331T120000
DTEND;TZID=UTC:20260331T123000
DTSTAMP:20260423T135954
CREATED:20260318T151056Z
LAST-MODIFIED:20260318T151056Z
UID:5256-1774958400-1774960200@arkansastransit.com
SUMMARY:Website Builder Office Hours
DESCRIPTION:Website Builder Office Hours \nSince 2011\, Website Builder has allowed users to create and design websites that are hosted on the National RTAP server free of charge. Recently\, National RTAP released Website Builder 3.0 using customer feedback and the latest technology to make creating\, editing and launching your website as easy as possible. \nCheck out some rural transit websites built with National RTAP’s Website Builder: \n\nAccess Allegany (New York)\nNeed A Ride (New York)\nGo Blue Transit (Texas)\nNebraska Public Transit (Nebraska)\nBluefield Area Transit (West Virginia)\n\nHere are examples of a State RTAP website and transit association website\, both built with Website Builder. \n\nIndiana RTAP\nCTANW (Community Transportation Association of the Northwest)\n\nReady to begin? Click on the Create My Website button. You will be prompted to create or sign in to your National RTAP account. Once logged in\, several website templates will appear. Select your preferred template by clicking “Start Building.” You will be prompted to create an account for your website. This is a different from your National RTAP account. \n\nIntended for: Transit Agencies \nCost: FREE \nRegister Here: Click here
URL:https://arkansastransit.com/event/website-builder-office-hours-96/
CATEGORIES:Online/Webinar
ATTACH;FMTTYPE=image/jpeg:https://arkansastransit.com/wp-content/uploads/2023/05/download-2.jpg
END:VEVENT
END:VCALENDAR