BEGIN:VCALENDAR
VERSION:2.0
PRODID:-//Arkansas Transit Association - ECPv6.0.13//NONSGML v1.0//EN
CALSCALE:GREGORIAN
METHOD:PUBLISH
X-ORIGINAL-URL:https://arkansastransit.com
X-WR-CALDESC:Events for Arkansas Transit Association
REFRESH-INTERVAL;VALUE=DURATION:PT1H
X-Robots-Tag:noindex
X-PUBLISHED-TTL:PT1H
BEGIN:VTIMEZONE
TZID:UTC
BEGIN:STANDARD
TZOFFSETFROM:+0000
TZOFFSETTO:+0000
TZNAME:UTC
DTSTART:20250101T000000
END:STANDARD
END:VTIMEZONE
BEGIN:VEVENT
DTSTART;VALUE=DATE:20250728
DTEND;VALUE=DATE:20250801
DTSTAMP:20260424T000930
CREATED:20250304T191255Z
LAST-MODIFIED:20250304T193522Z
UID:4416-1753660800-1754006399@arkansastransit.com
SUMMARY:2025 Summer U Conference and EXPO
DESCRIPTION:2025 Summer U Conference and EXPO\nJoin SWTA & LPTA  in New Orleans\, Louisiana this July for SWTA’s 2025 Summer U Conference and EXPO! \nSummer University Seminars \n\nTransit Law\nMarketing\nCommunity Mobility\nSWTA: Next Gen\n\nAgenda to come soon
URL:https://arkansastransit.com/event/2025-summer-u-conference-and-expo/
LOCATION:Sheraton Fort Worth Downtown Hotel\, 1701 Commerce Street\, Fort Worth\, 76102
CATEGORIES:Conferences/Regional and National Events
ATTACH;FMTTYPE=image/webp:https://arkansastransit.com/wp-content/uploads/2025/03/27-30-July-1024x1024.png.webp
END:VEVENT
END:VCALENDAR