BEGIN:VCALENDAR
VERSION:2.0
PRODID:-//Arkansas Transit Association - ECPv6.0.13//NONSGML v1.0//EN
CALSCALE:GREGORIAN
METHOD:PUBLISH
X-ORIGINAL-URL:https://arkansastransit.com
X-WR-CALDESC:Events for Arkansas Transit Association
REFRESH-INTERVAL;VALUE=DURATION:PT1H
X-Robots-Tag:noindex
X-PUBLISHED-TTL:PT1H
BEGIN:VTIMEZONE
TZID:UTC
BEGIN:STANDARD
TZOFFSETFROM:+0000
TZOFFSETTO:+0000
TZNAME:UTC
DTSTART:20250101T000000
END:STANDARD
END:VTIMEZONE
BEGIN:VEVENT
DTSTART;VALUE=DATE:20250602
DTEND;VALUE=DATE:20250605
DTSTAMP:20260424T030330
CREATED:20250115T191309Z
LAST-MODIFIED:20250214T172227Z
UID:4320-1748822400-1749081599@arkansastransit.com
SUMMARY:2025 Community Transportation Association of America (CTAA) EXPO
DESCRIPTION:When: June 2-4 \nWhere: San Diego\, CA \nRegister here: 2025 CTAA EXPO
URL:https://arkansastransit.com/event/2025-community-transportation-association-of-america-ctaa-expo/
CATEGORIES:Conferences/Regional and National Events
ATTACH;FMTTYPE=image/jpeg:https://arkansastransit.com/wp-content/uploads/2025/01/download-1.jpg
END:VEVENT
END:VCALENDAR