BEGIN:VCALENDAR
VERSION:2.0
PRODID:-//Arkansas Transit Association - ECPv6.0.13//NONSGML v1.0//EN
CALSCALE:GREGORIAN
METHOD:PUBLISH
X-ORIGINAL-URL:https://arkansastransit.com
X-WR-CALDESC:Events for Arkansas Transit Association
REFRESH-INTERVAL;VALUE=DURATION:PT1H
X-Robots-Tag:noindex
X-PUBLISHED-TTL:PT1H
BEGIN:VTIMEZONE
TZID:UTC
BEGIN:STANDARD
TZOFFSETFROM:+0000
TZOFFSETTO:+0000
TZNAME:UTC
DTSTART:20260101T000000
END:STANDARD
END:VTIMEZONE
BEGIN:VEVENT
DTSTART;TZID=UTC:20260107T100000
DTEND;TZID=UTC:20260107T120000
DTSTAMP:20260425T110206
CREATED:20260121T155042Z
LAST-MODIFIED:20260121T155042Z
UID:5226-1767780000-1767787200@arkansastransit.com
SUMMARY:ATA Board of Director's Special Meeting
DESCRIPTION:ATA Board of Director’s Special Meeting \nTime: 10:00 AM \nWhere: Arkansas Transit Association
URL:https://arkansastransit.com/event/ata-board-of-directors-special-meeting-3/
CATEGORIES:At ATA
ATTACH;FMTTYPE=image/jpeg:https://arkansastransit.com/wp-content/uploads/2023/05/2122.jpg
END:VEVENT
END:VCALENDAR