BEGIN:VCALENDAR
VERSION:2.0
PRODID:-//Arkansas Transit Association - ECPv6.0.13//NONSGML v1.0//EN
CALSCALE:GREGORIAN
METHOD:PUBLISH
X-WR-CALNAME:Arkansas Transit Association
X-ORIGINAL-URL:https://arkansastransit.com
X-WR-CALDESC:Events for Arkansas Transit Association
REFRESH-INTERVAL;VALUE=DURATION:PT1H
X-Robots-Tag:noindex
X-PUBLISHED-TTL:PT1H
BEGIN:VTIMEZONE
TZID:UTC
BEGIN:STANDARD
TZOFFSETFROM:+0000
TZOFFSETTO:+0000
TZNAME:UTC
DTSTART:20250101T000000
END:STANDARD
END:VTIMEZONE
BEGIN:VEVENT
DTSTART;TZID=UTC:20250807T080000
DTEND;TZID=UTC:20250807T140000
DTSTAMP:20260425T183912
CREATED:20250617T144546Z
LAST-MODIFIED:20250617T144836Z
UID:4710-1754553600-1754575200@arkansastransit.com
SUMMARY:Lift Maintenance Training
DESCRIPTION:ATA is excited to announce the return of our in-person\, one-day Lift Maintenance Training class\, but with a new twist. We’re offering sessions in Central Arkansas and Northwest Arkansas! \nThe class will be presented by expert lift technician and long-time lift maintenance trainer David Grant.  Get ready for a day filled with valuable information and hands-on learning! \nPick Your Date & Location: \n\n8/7/2025\, Ozark Regional Transit\, 2423 E Robinson Ave\, Springdale\n\nTime:  8:00 AM – 2:00 PM \nCost:  $35 members / $55 non-members \nMeals:  Time provided for lunch on your own \nIntended Audience:  Mechanics\, Shop Supervisors\, Fleet Managers \nClass Includes: \n\nClassroom teaching and discussion\nHands-on demonstration of information discussed in the classroom\nParticipants provided with instructor contact information for assistance in the future\nFocus on Braun lifts\, but instructor will answer questions about Ricon lifts\nIMPORTANT: Participants will receive course completion certificates\, but will not be licensed or certified as lift maintenance technicians.\n\nTopics Covered: \n\nPreventative maintenance\nMinor repair (not major repair)\nInspection\nTroubleshooting\nAdjustment\nDrifting\nPart replacement\nElectrical and hydraulic components\nMaintenance schedules\nPurpose of interlocks\nLift weight capacities\nManufacturer suggested lift operation\nProper boarding and deboarding of passengers\n\nRegister Here: click here \nIf you have any questions please email Brandon Wood (bwood@arktransit.org) or Rebecca East (reast@arktransit.org)\, or call our office
URL:https://arkansastransit.com/event/lift-maintenance-training-2/
LOCATION:Ozark Regional Transit\, 2423 E Robinson Ave\, Springdale\, AR
CATEGORIES:At ATA
ATTACH;FMTTYPE=image/png:https://arkansastransit.com/wp-content/uploads/2024/04/Lift-Maintenance-2024-2-e1714589282531.png
END:VEVENT
END:VCALENDAR