BEGIN:VCALENDAR
VERSION:2.0
PRODID:-//Arkansas Transit Association - ECPv6.0.13//NONSGML v1.0//EN
CALSCALE:GREGORIAN
METHOD:PUBLISH
X-ORIGINAL-URL:https://arkansastransit.com
X-WR-CALDESC:Events for Arkansas Transit Association
REFRESH-INTERVAL;VALUE=DURATION:PT1H
X-Robots-Tag:noindex
X-PUBLISHED-TTL:PT1H
BEGIN:VTIMEZONE
TZID:UTC
BEGIN:STANDARD
TZOFFSETFROM:+0000
TZOFFSETTO:+0000
TZNAME:UTC
DTSTART:20260101T000000
END:STANDARD
END:VTIMEZONE
BEGIN:VEVENT
DTSTART;TZID=UTC:20260615T150000
DTEND;TZID=UTC:20260615T150000
DTSTAMP:20260420T073123
CREATED:20260413T172850Z
LAST-MODIFIED:20260413T172850Z
UID:5365-1781535600-1781535600@arkansastransit.com
SUMMARY:Formatting Basics: A Webinar for Government and Non-Profits Agencies
DESCRIPTION:Formatting Basics: A Webinar for Government and Non-Profits Agencies \nLearn how to use computer programs like InDesign or Illustrator to format plain language. Interpreters for the Deaf and Live Captioning provided. \n\nIntended for: All \nCost: FREE \nRegister Here: Click here
URL:https://arkansastransit.com/event/formatting-basics-a-webinar-for-government-and-non-profits-agencies/
CATEGORIES:Online/Webinar
ATTACH;FMTTYPE=image/jpeg:https://arkansastransit.com/wp-content/uploads/2023/05/download-3.jpg
END:VEVENT
END:VCALENDAR