BEGIN:VCALENDAR
VERSION:2.0
PRODID:-//Arkansas Transit Association - ECPv6.0.13//NONSGML v1.0//EN
CALSCALE:GREGORIAN
METHOD:PUBLISH
X-ORIGINAL-URL:https://arkansastransit.com
X-WR-CALDESC:Events for Arkansas Transit Association
REFRESH-INTERVAL;VALUE=DURATION:PT1H
X-Robots-Tag:noindex
X-PUBLISHED-TTL:PT1H
BEGIN:VTIMEZONE
TZID:UTC
BEGIN:STANDARD
TZOFFSETFROM:+0000
TZOFFSETTO:+0000
TZNAME:UTC
DTSTART:20260101T000000
END:STANDARD
END:VTIMEZONE
BEGIN:VEVENT
DTSTART;VALUE=DATE:20260609
DTEND;VALUE=DATE:20260610
DTSTAMP:20260420T073134
CREATED:20260318T152751Z
LAST-MODIFIED:20260318T152947Z
UID:5296-1780963200-1781049599@arkansastransit.com
SUMMARY:Lift Maintenance Training
DESCRIPTION:ATA is excited to announce the return of our in-person\, one-day Lift Maintenance Training—now with a new twist! Join us in Central Arkansas or Northwest Arkansas for a hands-on learning experience led by expert lift technician and long-time trainer David Grant\, this course will take a deep dive into Braun lifts\, while also addressing your questions on Ricon lifts. Expect a full day of practical knowledge\, real-world insights\, and hands-on instruction. \n📍 Choose Your Date & Location\nJune 9\, 2026 \n\nArkansas Transit Association\n620 W Broadway St\, North Little Rock\n\nJune 10\, 2026 \n\nOzark Regional Transit\n2423 E Robinson Ave\, Springdale\n\n🕗 Time: 8:00 AM – 2:00 PM \n💲 Cost\n\n$35 Members\n$55 Non-Members\n\n👥 Who Should Attend\nMechanics\, Shop Supervisors\, and Fleet Managers \n🍽️ Meals\nTime will be provided for lunch on your own. \n⚠️ Important\nParticipants will receive a course completion certificate. \nThis training does not certify or license attendees as lift maintenance technicians. \n\nClassroom teaching and discussion\nHands-on demonstration of information discussed in the classroom\nParticipants provided with instructor contact information for assistance in the future\nFocus on Braun lifts\, but instructor will answer questions about Ricon lifts\nIMPORTANT: Participants will receive course completion certificates\, but will not be licensed or certified as lift maintenance technicians.\n\nTopics Covered: \n\nPreventative maintenance\nMinor repair (not major repair)\nInspection\nTroubleshooting\nAdjustment\nDrifting\nPart replacement\nElectrical and hydraulic components\nMaintenance schedules\nPurpose of interlocks\nLift weight capacities\nManufacturer suggested lift operation\nProper boarding and deboarding of passengers
URL:https://arkansastransit.com/event/lift-maintenance-training-3/
CATEGORIES:At ATA
ATTACH;FMTTYPE=image/png:https://arkansastransit.com/wp-content/uploads/2024/04/Lift-Maintenance-2024-2-e1714589282531.png
END:VEVENT
END:VCALENDAR