BEGIN:VCALENDAR
VERSION:2.0
PRODID:-//Arkansas Transit Association - ECPv6.0.13//NONSGML v1.0//EN
CALSCALE:GREGORIAN
METHOD:PUBLISH
X-WR-CALNAME:Arkansas Transit Association
X-ORIGINAL-URL:https://arkansastransit.com
X-WR-CALDESC:Events for Arkansas Transit Association
REFRESH-INTERVAL;VALUE=DURATION:PT1H
X-Robots-Tag:noindex
X-PUBLISHED-TTL:PT1H
BEGIN:VTIMEZONE
TZID:UTC
BEGIN:STANDARD
TZOFFSETFROM:+0000
TZOFFSETTO:+0000
TZNAME:UTC
DTSTART:20260101T000000
END:STANDARD
END:VTIMEZONE
BEGIN:VEVENT
DTSTART;TZID=UTC:20260520T150000
DTEND;TZID=UTC:20260520T150000
DTSTAMP:20260420T060912
CREATED:20260413T172438Z
LAST-MODIFIED:20260413T172438Z
UID:5363-1779289200-1779289200@arkansastransit.com
SUMMARY:Easy Read Icons: A Webinar for Government and Non-Profits Agencies
DESCRIPTION:Easy Read Icons: A Webinar for Government and Non-Profits Agencies\nYou don’t need to be able to draw to make great pictures for Easy Read documents. Learn how in this webinar! Interpreters for the Deaf and Live Captioning provided. \nIntended for: All \nCost: FREE \nRegister Here: Click here
URL:https://arkansastransit.com/event/easy-read-icons-a-webinar-for-government-and-non-profits-agencies/
LOCATION:Online (Zoom)
CATEGORIES:Online/Webinar
ATTACH;FMTTYPE=image/jpeg:https://arkansastransit.com/wp-content/uploads/2023/05/download-2.jpg
END:VEVENT
END:VCALENDAR