BEGIN:VCALENDAR
VERSION:2.0
PRODID:-//Arkansas Transit Association - ECPv6.0.13//NONSGML v1.0//EN
CALSCALE:GREGORIAN
METHOD:PUBLISH
X-WR-CALNAME:Arkansas Transit Association
X-ORIGINAL-URL:https://arkansastransit.com
X-WR-CALDESC:Events for Arkansas Transit Association
REFRESH-INTERVAL;VALUE=DURATION:PT1H
X-Robots-Tag:noindex
X-PUBLISHED-TTL:PT1H
BEGIN:VTIMEZONE
TZID:UTC
BEGIN:STANDARD
TZOFFSETFROM:+0000
TZOFFSETTO:+0000
TZNAME:UTC
DTSTART:20260101T000000
END:STANDARD
END:VTIMEZONE
BEGIN:VEVENT
DTSTART;VALUE=DATE:20260510
DTEND;VALUE=DATE:20260514
DTSTAMP:20260420T060942
CREATED:20251110T190241Z
LAST-MODIFIED:20251110T190241Z
UID:5075-1778371200-1778716799@arkansastransit.com
SUMMARY:2026 Community Transportation Association of America (CTAA) EXPO
DESCRIPTION:When: May 10-13 \nWhere: Omaha\, NE \nRegister here: 2026 CTAA EXPO
URL:https://arkansastransit.com/event/2026-community-transportation-association-of-america-ctaa-expo/
CATEGORIES:Conferences/Regional and National Events
END:VEVENT
BEGIN:VEVENT
DTSTART;TZID=UTC:20260513T150000
DTEND;TZID=UTC:20260513T150000
DTSTAMP:20260420T060942
CREATED:20260413T171934Z
LAST-MODIFIED:20260413T172227Z
UID:5359-1778684400-1778684400@arkansastransit.com
SUMMARY:Easy Read Text: A Webinar for Government and Non-Profits Agencies
DESCRIPTION:Easy Read Text: A Webinar for Government and Non-Profits Agencies\nWriting in Easy Read is different than writing in Plain Language. Learn what makes Easy Read unique and important — and how to write in Easy Read — in this webinar! \nIntended for: All \nCost: FREE \nRegister Here: Click here
URL:https://arkansastransit.com/event/holding-the-line-transportations-defense-against-human-trafficking-2/
LOCATION:Online (Zoom)
CATEGORIES:Online/Webinar
ATTACH;FMTTYPE=image/png:https://arkansastransit.com/wp-content/uploads/2023/05/download-5-e1683584142564.png
END:VEVENT
END:VCALENDAR