BEGIN:VCALENDAR
VERSION:2.0
PRODID:-//Arkansas Transit Association - ECPv6.0.13//NONSGML v1.0//EN
CALSCALE:GREGORIAN
METHOD:PUBLISH
X-WR-CALNAME:Arkansas Transit Association
X-ORIGINAL-URL:https://arkansastransit.com
X-WR-CALDESC:Events for Arkansas Transit Association
REFRESH-INTERVAL;VALUE=DURATION:PT1H
X-Robots-Tag:noindex
X-PUBLISHED-TTL:PT1H
BEGIN:VTIMEZONE
TZID:UTC
BEGIN:STANDARD
TZOFFSETFROM:+0000
TZOFFSETTO:+0000
TZNAME:UTC
DTSTART:20260101T000000
END:STANDARD
END:VTIMEZONE
BEGIN:VEVENT
DTSTART;VALUE=DATE:20260428
DTEND;VALUE=DATE:20260501
DTSTAMP:20260420T043846
CREATED:20251110T185944Z
LAST-MODIFIED:20251110T185944Z
UID:5070-1777334400-1777593599@arkansastransit.com
SUMMARY:2026 Arkansas DDPA Spring Conference
DESCRIPTION:DDPA Spring Conference\n\n\n\n\nWhen: April 28-30\, 2026 \nWhere: Little Rock\, AR \nRegister here: More info on registration soon!
URL:https://arkansastransit.com/event/2026-arkansas-ddpa-spring-conference/
LOCATION:Sheraton Fort Worth Downtown Hotel\, 1701 Commerce Street\, Fort Worth\, 76102
CATEGORIES:Conferences/Regional and National Events
END:VEVENT
BEGIN:VEVENT
DTSTART;TZID=UTC:20260429T123000
DTEND;TZID=UTC:20260429T123000
DTSTAMP:20260420T043846
CREATED:20260413T155734Z
LAST-MODIFIED:20260413T155734Z
UID:5348-1777465800-1777465800@arkansastransit.com
SUMMARY:Just Enough AI:  Boring Tiny Tools for Transit
DESCRIPTION:Just Enough AI: Boring Tiny Tools for Transit \nAI doesn’t have to mean massive platforms or sweeping transformations. In the shared mobility world\, some of the most useful applications are much smaller\, and much more practical. In this webinar\, we’ll explore how large language models can help automate repetitive tasks and smooth everyday workflows. We’ll look at real examples\, including tools like RideSheet.org and HopIn\, and talk about where AI actually delivers value (and where the hype gets ahead of reality). \n\nIntended for: All \nCost: FREE \nRegister Here: Click here
URL:https://arkansastransit.com/event/just-enough-ai-boring-tiny-tools-for-transit/
CATEGORIES:Online/Webinar
ATTACH;FMTTYPE=image/png:https://arkansastransit.com/wp-content/uploads/2026/04/26a982f6-b1e3-4228-b357-f9c60ce945c5.png
END:VEVENT
BEGIN:VEVENT
DTSTART;TZID=UTC:20260429T130000
DTEND;TZID=UTC:20260429T140000
DTSTAMP:20260420T043846
CREATED:20260413T171016Z
LAST-MODIFIED:20260413T171016Z
UID:5352-1777467600-1777471200@arkansastransit.com
SUMMARY:Using American Community Survey Data to Strengthen Grant Proposals
DESCRIPTION:Using American Community Survey Data to Strengthen Grant Proposals \nLearn about how data from the American Community Survey (ACS) can answer a variety of questions posed in grant applications or provide information needed to advocate for the members of your local communities. You’ll also learn best practices to search for ACS data you need for grant applications through a live demonstration of data.census.gov \n\nIntended for: Transit Agencies \nCost: FREE \nRegister Here: Click here
URL:https://arkansastransit.com/event/using-american-community-survey-data-to-strengthen-grant-proposals/
CATEGORIES:Online/Webinar
ATTACH;FMTTYPE=image/png:https://arkansastransit.com/wp-content/uploads/2026/04/download.png
END:VEVENT
BEGIN:VEVENT
DTSTART;TZID=UTC:20260429T150000
DTEND;TZID=UTC:20260429T150000
DTSTAMP:20260420T043846
CREATED:20260413T171257Z
LAST-MODIFIED:20260413T171257Z
UID:5357-1777474800-1777474800@arkansastransit.com
SUMMARY:Plain Language: A Webinar for Government and Non-Profits Agencies
DESCRIPTION:Plain Language: A Webinar for Government and Non-Profits Agencies\nPlain language writing makes your work better — and it’s more accessible for people with disabilities and English language learners. Learn the ins and outs of plain language in this webinar. Interpreters for the Deaf and Live Captioning provided \nIntended for: All \nCost: FREE \nRegister Here: Click here
URL:https://arkansastransit.com/event/plain-language-a-webinar-for-government-and-non-profits-agencies-2/
LOCATION:Online (Zoom)
CATEGORIES:Online/Webinar
ATTACH;FMTTYPE=image/jpeg:https://arkansastransit.com/wp-content/uploads/2023/05/download-3.jpg
END:VEVENT
END:VCALENDAR