BEGIN:VCALENDAR
VERSION:2.0
PRODID:-//Arkansas Transit Association - ECPv6.0.13//NONSGML v1.0//EN
CALSCALE:GREGORIAN
METHOD:PUBLISH
X-ORIGINAL-URL:https://arkansastransit.com
X-WR-CALDESC:Events for Arkansas Transit Association
REFRESH-INTERVAL;VALUE=DURATION:PT1H
X-Robots-Tag:noindex
X-PUBLISHED-TTL:PT1H
BEGIN:VTIMEZONE
TZID:UTC
BEGIN:STANDARD
TZOFFSETFROM:+0000
TZOFFSETTO:+0000
TZNAME:UTC
DTSTART:20260101T000000
END:STANDARD
END:VTIMEZONE
BEGIN:VEVENT
DTSTART;TZID=UTC:20260423T120000
DTEND;TZID=UTC:20260423T123000
DTSTAMP:20260420T044117
CREATED:20260318T151757Z
LAST-MODIFIED:20260318T151757Z
UID:5272-1776945600-1776947400@arkansastransit.com
SUMMARY:General Transit Feed Specification (GTFS) Office Hours
DESCRIPTION:General Transit Feed Specification (GTFS) Office Hours\nGTFS is split into a schedule component that contains schedule\, fare\, and geographic transit information and a real-time component that contains arrival predictions\, vehicle positions and service advisories. Information about routes\, schedules\, and fares are represented in basic text files\, which means it can be created and maintained without the use of complicated or proprietary software. \nIntended for: Transit Agencies \nCost: FREE \nRegister Here: Click here
URL:https://arkansastransit.com/event/general-transit-feed-specification-gtfs-office-hours-129/
LOCATION:Online (Zoom)
CATEGORIES:Online/Webinar
ATTACH;FMTTYPE=image/jpeg:https://arkansastransit.com/wp-content/uploads/2023/05/download-2.jpg
END:VEVENT
BEGIN:VEVENT
DTSTART;TZID=UTC:20260423T130000
DTEND;TZID=UTC:20260423T144500
DTSTAMP:20260420T044117
CREATED:20260413T155432Z
LAST-MODIFIED:20260413T155432Z
UID:5346-1776949200-1776955500@arkansastransit.com
SUMMARY:Holding the Line: Transportation's Defense Against Human Trafficking
DESCRIPTION:Holding the Line: Transportation’s Defense Against Human Trafficking\nJoin the U.S. Department of Transportation (USDOT) for a webinar series to prepare transportation entities to prevent and address human trafficking in advance of major sporting events\, including the 2026 FIFA World Cup™. Transportation systems in host cities serve as the backbone of mobility during major sporting events\, moving millions of spectators\, workers\, and visitors. Increased travel\, hospitality demands\, and temporary workforces can heighten vulnerabilities to both labor and sex trafficking. Whether on roadways\, railways\, airways\, or waterways\, transportation entities are uniquely positioned at points of transit\, transfer\, and arrival to report suspected human trafficking. These webinars will provide a practical readiness framework that strengthens leadership commitment\, policy alignment\, cross-sector partnerships\, workforce preparedness\, responsible data practices\, and a survivor-informed response so transportation systems are prepared before kickoff and remain vigilant long after the final whistle. \nIntended for: All \nCost: FREE \nRegister Here: Click here
URL:https://arkansastransit.com/event/holding-the-line-transportations-defense-against-human-trafficking/
LOCATION:Online (Zoom)
CATEGORIES:Online/Webinar
ATTACH;FMTTYPE=image/png:https://arkansastransit.com/wp-content/uploads/2023/05/download-5-e1683584142564.png
END:VEVENT
END:VCALENDAR