BEGIN:VCALENDAR
VERSION:2.0
PRODID:-//Arkansas Transit Association - ECPv6.0.13//NONSGML v1.0//EN
CALSCALE:GREGORIAN
METHOD:PUBLISH
X-WR-CALNAME:Arkansas Transit Association
X-ORIGINAL-URL:https://arkansastransit.com
X-WR-CALDESC:Events for Arkansas Transit Association
REFRESH-INTERVAL;VALUE=DURATION:PT1H
X-Robots-Tag:noindex
X-PUBLISHED-TTL:PT1H
BEGIN:VTIMEZONE
TZID:UTC
BEGIN:STANDARD
TZOFFSETFROM:+0000
TZOFFSETTO:+0000
TZNAME:UTC
DTSTART:20260101T000000
END:STANDARD
END:VTIMEZONE
BEGIN:VEVENT
DTSTART;VALUE=DATE:20260414
DTEND;VALUE=DATE:20260417
DTSTAMP:20260420T043857
CREATED:20260318T153154Z
LAST-MODIFIED:20260318T153154Z
UID:5302-1776124800-1776383999@arkansastransit.com
SUMMARY:FTA Drug and Alcohol Program National Conference
DESCRIPTION: FTA Drug and Alcohol Program National Conference April 14-16\, 2026 \nThis FREE three-day conference will provide attendees with a background on 49 CFR Part 655 (Prevention of Alcohol Misuse and Prohibited Drug Use in Transit Operators) and 49 CFR Part 40 (Procedures for Transportation Workplace Drug and Alcohol Testing Programs). \nAttendees can choose from a variety of sessions to customize their experience for the specific needs of their employer and knowledge level of the regulations. The conference will include training for beginner Drug and Alcohol Program Managers (DAPMs)\, an update from the Office of Drug and Alcohol Policy and Compliance (ODAPC)\, and various other sessions catered to running a compliant drug and alcohol program. Additionally\, there will be networking opportunities and access to FTA and other federal drug and alcohol compliance experts. \nThere is no registration fee to attend this conference. Attendees are financially responsible for all travel related expenses\, including all meals. Space is limited\, and registrations will be processed on a first-come\, first-served basis. \nRegister Here: 2026 D&A Conference
URL:https://arkansastransit.com/event/fta-drug-and-alcohol-program-national-conference-2/
CATEGORIES:Conferences/Regional and National Events
ATTACH;FMTTYPE=image/png:https://arkansastransit.com/wp-content/uploads/2025/12/picture1_original.png
END:VEVENT
BEGIN:VEVENT
DTSTART;TZID=UTC:20260414T120000
DTEND;TZID=UTC:20260414T123000
DTSTAMP:20260420T043857
CREATED:20260318T151229Z
LAST-MODIFIED:20260318T151229Z
UID:5262-1776168000-1776169800@arkansastransit.com
SUMMARY:Website Builder Office Hours
DESCRIPTION:Website Builder Office Hours \nSince 2011\, Website Builder has allowed users to create and design websites that are hosted on the National RTAP server free of charge. Recently\, National RTAP released Website Builder 3.0 using customer feedback and the latest technology to make creating\, editing and launching your website as easy as possible. \nCheck out some rural transit websites built with National RTAP’s Website Builder: \n\nAccess Allegany (New York)\nNeed A Ride (New York)\nGo Blue Transit (Texas)\nNebraska Public Transit (Nebraska)\nBluefield Area Transit (West Virginia)\n\nHere are examples of a State RTAP website and transit association website\, both built with Website Builder. \n\nIndiana RTAP\nCTANW (Community Transportation Association of the Northwest)\n\nReady to begin? Click on the Create My Website button. You will be prompted to create or sign in to your National RTAP account. Once logged in\, several website templates will appear. Select your preferred template by clicking “Start Building.” You will be prompted to create an account for your website. This is a different from your National RTAP account. \n\nIntended for: Transit Agencies \nCost: FREE \nRegister Here: Click here
URL:https://arkansastransit.com/event/website-builder-office-hours-98/
CATEGORIES:Online/Webinar
ATTACH;FMTTYPE=image/jpeg:https://arkansastransit.com/wp-content/uploads/2023/05/download-2.jpg
END:VEVENT
END:VCALENDAR