BEGIN:VCALENDAR
VERSION:2.0
PRODID:-//Arkansas Transit Association - ECPv6.0.13//NONSGML v1.0//EN
CALSCALE:GREGORIAN
METHOD:PUBLISH
X-ORIGINAL-URL:https://arkansastransit.com
X-WR-CALDESC:Events for Arkansas Transit Association
REFRESH-INTERVAL;VALUE=DURATION:PT1H
X-Robots-Tag:noindex
X-PUBLISHED-TTL:PT1H
BEGIN:VTIMEZONE
TZID:UTC
BEGIN:STANDARD
TZOFFSETFROM:+0000
TZOFFSETTO:+0000
TZNAME:UTC
DTSTART:20260101T000000
END:STANDARD
END:VTIMEZONE
BEGIN:VEVENT
DTSTART;TZID=UTC:20260410T130000
DTEND;TZID=UTC:20260410T143000
DTSTAMP:20260420T044118
CREATED:20260318T151536Z
LAST-MODIFIED:20260318T151536Z
UID:5266-1775826000-1775831400@arkansastransit.com
SUMMARY:Artificial Intelligence and Data Governance in Transportation
DESCRIPTION:Artificial Intelligence and Data Governance in Transportation \nAs agencies seek to harness AI to enhance safety\, strengthen system performance\, and support data-driven decision-making\, the need for reliable data and clear governance frameworks is increasingly urgent. \n\nIntended: All \nCost: FREE \nRegistration Link: Click here
URL:https://arkansastransit.com/event/artificial-intelligence-and-data-governance-in-transportation/
CATEGORIES:Online/Webinar
ATTACH;FMTTYPE=image/png:https://arkansastransit.com/wp-content/uploads/2024/01/download-2.png
END:VEVENT
END:VCALENDAR