BEGIN:VCALENDAR
VERSION:2.0
PRODID:-//Arkansas Transit Association - ECPv6.0.13//NONSGML v1.0//EN
CALSCALE:GREGORIAN
METHOD:PUBLISH
X-WR-CALNAME:Arkansas Transit Association
X-ORIGINAL-URL:https://arkansastransit.com
X-WR-CALDESC:Events for Arkansas Transit Association
REFRESH-INTERVAL;VALUE=DURATION:PT1H
X-Robots-Tag:noindex
X-PUBLISHED-TTL:PT1H
BEGIN:VTIMEZONE
TZID:UTC
BEGIN:STANDARD
TZOFFSETFROM:+0000
TZOFFSETTO:+0000
TZNAME:UTC
DTSTART:20250101T000000
END:STANDARD
END:VTIMEZONE
BEGIN:VEVENT
DTSTART;TZID=UTC:20251216T090000
DTEND;TZID=UTC:20251216T103000
DTSTAMP:20260420T111447
CREATED:20251020T174346Z
LAST-MODIFIED:20251020T174346Z
UID:5025-1765875600-1765881000@arkansastransit.com
SUMMARY:GM & Transit Director Interactive Roundtable on Challenges in Transit
DESCRIPTION:GM & Transit Director Interactive Roundtable on Challenges in Transit \nJoin fellow Texas General Managers and Transit Directors for an interactive roundtable discussion focused on today’s most pressing challenges in public transit. This session will include key regulatory updates\, workforce and funding challenges\, and a candid exchange of ideas to common operational issues affecting agencies of all sizes. Expect open dialogue\, peer learning\, and practical takeaways. \nIntended for: All \nCost: FREE \nRegister Here: Click here
URL:https://arkansastransit.com/event/gm-transit-director-interactive-roundtable-on-challenges-in-transit/
LOCATION:Online (Zoom)
CATEGORIES:Online/Webinar
ATTACH;FMTTYPE=image/jpeg:https://arkansastransit.com/wp-content/uploads/2024/07/download.jpg
END:VEVENT
END:VCALENDAR