BEGIN:VCALENDAR
VERSION:2.0
PRODID:-//Arkansas Transit Association - ECPv6.0.13//NONSGML v1.0//EN
CALSCALE:GREGORIAN
METHOD:PUBLISH
X-ORIGINAL-URL:https://arkansastransit.com
X-WR-CALDESC:Events for Arkansas Transit Association
REFRESH-INTERVAL;VALUE=DURATION:PT1H
X-Robots-Tag:noindex
X-PUBLISHED-TTL:PT1H
BEGIN:VTIMEZONE
TZID:UTC
BEGIN:STANDARD
TZOFFSETFROM:+0000
TZOFFSETTO:+0000
TZNAME:UTC
DTSTART:20250101T000000
END:STANDARD
END:VTIMEZONE
BEGIN:VEVENT
DTSTART;TZID=UTC:20251211T100000
DTEND;TZID=UTC:20251211T113000
DTSTAMP:20260420T111835
CREATED:20251020T174247Z
LAST-MODIFIED:20251020T174247Z
UID:5023-1765447200-1765452600@arkansastransit.com
SUMMARY:How Passengers with Disabilities Travel Independently
DESCRIPTION:How Passengers with Disabilities Travel Independently \n This webinar is designed to educate participants on how people with disabilities travel independently in their communities. The webinar covers the use of service animals and white canes\, mobility devices such as wheelchairs\, scooters\, walkers and more\, the use of technology to aid in traveling independently\, and the role of personal care attendants in independent mobility. \nIntended for: All \nCost: FREE \nRegister Here: Click here
URL:https://arkansastransit.com/event/how-passengers-with-disabilities-travel-independently/
LOCATION:Online (Zoom)
CATEGORIES:Online/Webinar
ATTACH;FMTTYPE=image/jpeg:https://arkansastransit.com/wp-content/uploads/2024/07/download.jpg
END:VEVENT
BEGIN:VEVENT
DTSTART;TZID=UTC:20251211T120000
DTEND;TZID=UTC:20251211T123000
DTSTAMP:20260420T111835
CREATED:20251020T174129Z
LAST-MODIFIED:20251020T174129Z
UID:5021-1765454400-1765456200@arkansastransit.com
SUMMARY:General Transit Feed Specification (GTFS) Office Hours
DESCRIPTION:General Transit Feed Specification (GTFS) Office Hours\nGTFS is split into a schedule component that contains schedule\, fare\, and geographic transit information and a real-time component that contains arrival predictions\, vehicle positions and service advisories. Information about routes\, schedules\, and fares are represented in basic text files\, which means it can be created and maintained without the use of complicated or proprietary software. \nIntended for: Transit Agencies \nCost: FREE \nRegister Here: Click here
URL:https://arkansastransit.com/event/general-transit-feed-specification-gtfs-office-hours-115/
LOCATION:Online (Zoom)
CATEGORIES:Online/Webinar
ATTACH;FMTTYPE=image/jpeg:https://arkansastransit.com/wp-content/uploads/2023/05/download-2.jpg
END:VEVENT
END:VCALENDAR