BEGIN:VCALENDAR
VERSION:2.0
PRODID:-//Arkansas Transit Association - ECPv6.0.13//NONSGML v1.0//EN
CALSCALE:GREGORIAN
METHOD:PUBLISH
X-WR-CALNAME:Arkansas Transit Association
X-ORIGINAL-URL:https://arkansastransit.com
X-WR-CALDESC:Events for Arkansas Transit Association
REFRESH-INTERVAL;VALUE=DURATION:PT1H
X-Robots-Tag:noindex
X-PUBLISHED-TTL:PT1H
BEGIN:VTIMEZONE
TZID:UTC
BEGIN:STANDARD
TZOFFSETFROM:+0000
TZOFFSETTO:+0000
TZNAME:UTC
DTSTART:20250101T000000
END:STANDARD
END:VTIMEZONE
BEGIN:VEVENT
DTSTART;TZID=UTC:20251210T123000
DTEND;TZID=UTC:20251210T123000
DTSTAMP:20260420T111447
CREATED:20251204T185237Z
LAST-MODIFIED:20251204T185237Z
UID:5145-1765369800-1765369800@arkansastransit.com
SUMMARY:Hydrogen Procurement 101
DESCRIPTION:Hydrogen Procurement 101\nGTFS is split into a schedule component that contains schedule\, fare\, and geographic transit information and a real-time component that contains arrival predictions\, vehicle positions and service advisories. Information about routes\, schedules\, and fares are represented in basic text files\, which means it can be created and maintained without the use of complicated or proprietary software. \nIntended for: All \nCost: FREE \nRegister Here: Click here
URL:https://arkansastransit.com/event/hydrogen-procurement-101/
LOCATION:Online (Zoom)
CATEGORIES:Online/Webinar
ATTACH;FMTTYPE=image/png:https://arkansastransit.com/wp-content/uploads/2025/12/download-1.png
END:VEVENT
END:VCALENDAR