BEGIN:VCALENDAR
VERSION:2.0
PRODID:-//Arkansas Transit Association - ECPv6.0.13//NONSGML v1.0//EN
CALSCALE:GREGORIAN
METHOD:PUBLISH
X-ORIGINAL-URL:https://arkansastransit.com
X-WR-CALDESC:Events for Arkansas Transit Association
REFRESH-INTERVAL;VALUE=DURATION:PT1H
X-Robots-Tag:noindex
X-PUBLISHED-TTL:PT1H
BEGIN:VTIMEZONE
TZID:UTC
BEGIN:STANDARD
TZOFFSETFROM:+0000
TZOFFSETTO:+0000
TZNAME:UTC
DTSTART:20250101T000000
END:STANDARD
END:VTIMEZONE
BEGIN:VEVENT
DTSTART;TZID=UTC:20251120T120000
DTEND;TZID=UTC:20251120T123000
DTSTAMP:20260420T124659
CREATED:20251015T170456Z
LAST-MODIFIED:20251015T170456Z
UID:4995-1763640000-1763641800@arkansastransit.com
SUMMARY:General Transit Feed Specification (GTFS) Office Hours
DESCRIPTION:General Transit Feed Specification (GTFS) Office Hours\nGTFS is split into a schedule component that contains schedule\, fare\, and geographic transit information and a real-time component that contains arrival predictions\, vehicle positions and service advisories. Information about routes\, schedules\, and fares are represented in basic text files\, which means it can be created and maintained without the use of complicated or proprietary software. \nIntended for: Transit Agencies \nCost: FREE \nRegister Here: Click here
URL:https://arkansastransit.com/event/general-transit-feed-specification-gtfs-office-hours-113/
LOCATION:Online (Zoom)
CATEGORIES:Online/Webinar
ATTACH;FMTTYPE=image/jpeg:https://arkansastransit.com/wp-content/uploads/2023/05/download-2.jpg
END:VEVENT
BEGIN:VEVENT
DTSTART;TZID=UTC:20251120T130000
DTEND;TZID=UTC:20251120T130000
DTSTAMP:20260420T124659
CREATED:20251020T174446Z
LAST-MODIFIED:20251110T173716Z
UID:5031-1763643600-1763643600@arkansastransit.com
SUMMARY:Connected and Protected: The Power of Rural Cybersecurity
DESCRIPTION:Connected and Protected: The Power of Rural Cybersecurity \nNational Rural Health Day\, join the National Organization of State Offices of Rural Health (NOSORH) for Connected and Protected: The Power of Rural Cybersecurity. During this engaging panel discussion\, experts from the Center for Long-Term Cybersecurity\, Dakota State University\, Google\, and Madison Regional Health System will share real-world stories of collaboration and innovation\, lessons learned\, and practical strategies for building resilience against evolving cyber threats in rural communities. \n\nIntended for: All \nCost: FREE \nRegister Here: Click here
URL:https://arkansastransit.com/event/website-builder-office-hours-86/
CATEGORIES:Online/Webinar
ATTACH;FMTTYPE=image/jpeg:https://arkansastransit.com/wp-content/uploads/2025/10/download-1.jpg
END:VEVENT
END:VCALENDAR